BEGIN:VCALENDAR
VERSION:2.0
PRODID:-//NAVAA - ECPv6.15.20//NONSGML v1.0//EN
CALSCALE:GREGORIAN
METHOD:PUBLISH
X-WR-CALNAME:NAVAA
X-ORIGINAL-URL:https://navaa.org
X-WR-CALDESC:Events for NAVAA
REFRESH-INTERVAL;VALUE=DURATION:PT1H
X-Robots-Tag:noindex
X-PUBLISHED-TTL:PT1H
BEGIN:VTIMEZONE
TZID:America/Chicago
BEGIN:DAYLIGHT
TZOFFSETFROM:-0600
TZOFFSETTO:-0500
TZNAME:CDT
DTSTART:20240310T080000
END:DAYLIGHT
BEGIN:STANDARD
TZOFFSETFROM:-0500
TZOFFSETTO:-0600
TZNAME:CST
DTSTART:20241103T070000
END:STANDARD
BEGIN:DAYLIGHT
TZOFFSETFROM:-0600
TZOFFSETTO:-0500
TZNAME:CDT
DTSTART:20250309T080000
END:DAYLIGHT
BEGIN:STANDARD
TZOFFSETFROM:-0500
TZOFFSETTO:-0600
TZNAME:CST
DTSTART:20251102T070000
END:STANDARD
BEGIN:DAYLIGHT
TZOFFSETFROM:-0600
TZOFFSETTO:-0500
TZNAME:CDT
DTSTART:20260308T080000
END:DAYLIGHT
BEGIN:STANDARD
TZOFFSETFROM:-0500
TZOFFSETTO:-0600
TZNAME:CST
DTSTART:20261101T070000
END:STANDARD
END:VTIMEZONE
BEGIN:VEVENT
DTSTART;VALUE=DATE:20250101
DTEND;VALUE=DATE:20250102
DTSTAMP:20260424T145440
CREATED:20250103T175845Z
LAST-MODIFIED:20250103T175845Z
UID:3227-1735689600-1735775999@navaa.org
SUMMARY:National Stalking Awareness Month
DESCRIPTION:National Stalking Awareness Month\nIn preparation for National Stalking Awareness Month this January\, OVC TTAC offers several resources: \n\nEnroll in VAT Online to take the Stalking module.\nView the Back to Basics video on Protective Orders.\nVisit the Webinar Recordings page to view the Cyberharassment and Cyberstalking recording.\n\n(Posted December 19\, 2024)
URL:https://navaa.org/event/national-stalking-awareness-month/
END:VEVENT
BEGIN:VEVENT
DTSTART;VALUE=DATE:20250101
DTEND;VALUE=DATE:20250102
DTSTAMP:20260424T145440
CREATED:20250103T180243Z
LAST-MODIFIED:20250103T180250Z
UID:3230-1735689600-1735775999@navaa.org
SUMMARY:National Human Trafficking Prevention Month
DESCRIPTION:National Human Trafficking Prevention Month\nIn preparation for National Human Trafficking Prevention Month this January\, OVC TTAC offers several resources: \n\nTake the Understanding Human Trafficking online training.\nVisit the Human Trafficking page to find related webinars\, toolkits\, and other training and technical assistance resources.\nVisit the Human Trafficking Task Force e-Guide to find resources to assist in the formation of new task forces as well as guidance and support for existing task forces.\nEnroll in VAT Online to take the Human Trafficking module.\nVisit the Webinar Recordings page to access the following recordings:\n\nIncreasing Community Awareness of Labor Trafficking and\nCapacity Building Webinars for Human Trafficking Service Providers webinar series.\n\n\nAccess the Tribal Victim Assistance page for a list of federal and non-federal human trafficking resources.\nVisit the SANE Program Development and Operation Guide to access the chapter on Human Trafficking and related resources.\n\n(Posted December 19\, 2024)
URL:https://navaa.org/event/national-human-trafficking-prevention-month/
END:VEVENT
END:VCALENDAR