BEGIN:VCALENDAR
VERSION:2.0
PRODID:-//NAVAA - ECPv6.15.20//NONSGML v1.0//EN
CALSCALE:GREGORIAN
METHOD:PUBLISH
X-WR-CALNAME:NAVAA
X-ORIGINAL-URL:https://navaa.org
X-WR-CALDESC:Events for NAVAA
REFRESH-INTERVAL;VALUE=DURATION:PT1H
X-Robots-Tag:noindex
X-PUBLISHED-TTL:PT1H
BEGIN:VTIMEZONE
TZID:America/Chicago
BEGIN:DAYLIGHT
TZOFFSETFROM:-0600
TZOFFSETTO:-0500
TZNAME:CDT
DTSTART:20240310T080000
END:DAYLIGHT
BEGIN:STANDARD
TZOFFSETFROM:-0500
TZOFFSETTO:-0600
TZNAME:CST
DTSTART:20241103T070000
END:STANDARD
BEGIN:DAYLIGHT
TZOFFSETFROM:-0600
TZOFFSETTO:-0500
TZNAME:CDT
DTSTART:20250309T080000
END:DAYLIGHT
BEGIN:STANDARD
TZOFFSETFROM:-0500
TZOFFSETTO:-0600
TZNAME:CST
DTSTART:20251102T070000
END:STANDARD
BEGIN:DAYLIGHT
TZOFFSETFROM:-0600
TZOFFSETTO:-0500
TZNAME:CDT
DTSTART:20260308T080000
END:DAYLIGHT
BEGIN:STANDARD
TZOFFSETFROM:-0500
TZOFFSETTO:-0600
TZNAME:CST
DTSTART:20261101T070000
END:STANDARD
END:VTIMEZONE
BEGIN:VEVENT
DTSTART;TZID=America/Chicago:20250108T140000
DTEND;TZID=America/Chicago:20250108T153000
DTSTAMP:20260424T145441
CREATED:20241217T150936Z
LAST-MODIFIED:20241217T150936Z
UID:3147-1736344800-1736350200@navaa.org
SUMMARY:Panel discussion commemorating the 10th anniversary of the OVC “Faces of Human Trafficking” video series
DESCRIPTION:Over the past decade\, the Office for Victims of Crime’s (OVC) Faces of Human Trafficking video series has played a pivotal role in raising awareness\, educating the public\, and highlighting the tireless efforts of those combating human trafficking. \nRegister for a special panel discussion commemorating the 10th anniversary of this series featuring Suamhirs Guzman\, Evelyn Chumbow\, and Jeri Williams. These lived experience experts who appear in the series will be joined by Lindsay Waldrop of OVC’s Human Trafficking Division and Josie Heyano from the OVC-funded Survivor Engagement Training and Technical Assistance Project to reflect on the progress made over the past decade and discuss a path forward for similar products in our collective fight against human trafficking. \nFor more information\, click here.
URL:https://navaa.org/event/panel-discussion-commemorating-the-10th-anniversary-of-the-ovc-faces-of-human-trafficking-video-series/
END:VEVENT
BEGIN:VEVENT
DTSTART;TZID=America/Chicago:20250108T140000
DTEND;TZID=America/Chicago:20250108T153000
DTSTAMP:20260424T145441
CREATED:20250108T152958Z
LAST-MODIFIED:20250108T153104Z
UID:3235-1736344800-1736350200@navaa.org
SUMMARY:Commemorating the 10th Anniversary of OVC’s “Faces of Human Trafficking” Video Series
DESCRIPTION:Attendees of this event will hear about the pivotal role the video series has had in raising awareness\, educating the public\, and highlighting the tireless efforts of those combating human trafficking over the past decade. Additionally\, panelists will discuss a path forward for similar products in our collective fight against human trafficking.  For more information\, click HERE.
URL:https://navaa.org/event/commemorating-the-10th-anniversary-of-ovcs-faces-of-human-trafficking-video-series/
END:VEVENT
END:VCALENDAR