BEGIN:VCALENDAR
VERSION:2.0
PRODID:-//NAVAA - ECPv6.15.20//NONSGML v1.0//EN
CALSCALE:GREGORIAN
METHOD:PUBLISH
X-ORIGINAL-URL:https://navaa.org
X-WR-CALDESC:Events for NAVAA
REFRESH-INTERVAL;VALUE=DURATION:PT1H
X-Robots-Tag:noindex
X-PUBLISHED-TTL:PT1H
BEGIN:VTIMEZONE
TZID:America/Chicago
BEGIN:DAYLIGHT
TZOFFSETFROM:-0600
TZOFFSETTO:-0500
TZNAME:CDT
DTSTART:20240310T080000
END:DAYLIGHT
BEGIN:STANDARD
TZOFFSETFROM:-0500
TZOFFSETTO:-0600
TZNAME:CST
DTSTART:20241103T070000
END:STANDARD
BEGIN:DAYLIGHT
TZOFFSETFROM:-0600
TZOFFSETTO:-0500
TZNAME:CDT
DTSTART:20250309T080000
END:DAYLIGHT
BEGIN:STANDARD
TZOFFSETFROM:-0500
TZOFFSETTO:-0600
TZNAME:CST
DTSTART:20251102T070000
END:STANDARD
BEGIN:DAYLIGHT
TZOFFSETFROM:-0600
TZOFFSETTO:-0500
TZNAME:CDT
DTSTART:20260308T080000
END:DAYLIGHT
BEGIN:STANDARD
TZOFFSETFROM:-0500
TZOFFSETTO:-0600
TZNAME:CST
DTSTART:20261101T070000
END:STANDARD
END:VTIMEZONE
BEGIN:VEVENT
DTSTART;TZID=America/Chicago:20250109T140000
DTEND;TZID=America/Chicago:20250109T150000
DTSTAMP:20260424T145522
CREATED:20241217T150644Z
LAST-MODIFIED:20241217T150644Z
UID:3145-1736431200-1736434800@navaa.org
SUMMARY:OVC From the Director's Desk
DESCRIPTION:During this monthly briefing\, OVC Director Kristina Rose will update the field about OVC programs and initiatives and share OVC ideas to advance the field to improve options\, access\, and information for all crime victims and survivors.  For more information\, click here.
URL:https://navaa.org/event/ovc-from-the-directors-desk/
END:VEVENT
END:VCALENDAR