BEGIN:VCALENDAR
VERSION:2.0
PRODID:-//NAVAA - ECPv6.15.20//NONSGML v1.0//EN
CALSCALE:GREGORIAN
METHOD:PUBLISH
X-ORIGINAL-URL:https://navaa.org
X-WR-CALDESC:Events for NAVAA
REFRESH-INTERVAL;VALUE=DURATION:PT1H
X-Robots-Tag:noindex
X-PUBLISHED-TTL:PT1H
BEGIN:VTIMEZONE
TZID:America/Chicago
BEGIN:DAYLIGHT
TZOFFSETFROM:-0600
TZOFFSETTO:-0500
TZNAME:CDT
DTSTART:20240310T080000
END:DAYLIGHT
BEGIN:STANDARD
TZOFFSETFROM:-0500
TZOFFSETTO:-0600
TZNAME:CST
DTSTART:20241103T070000
END:STANDARD
BEGIN:DAYLIGHT
TZOFFSETFROM:-0600
TZOFFSETTO:-0500
TZNAME:CDT
DTSTART:20250309T080000
END:DAYLIGHT
BEGIN:STANDARD
TZOFFSETFROM:-0500
TZOFFSETTO:-0600
TZNAME:CST
DTSTART:20251102T070000
END:STANDARD
BEGIN:DAYLIGHT
TZOFFSETFROM:-0600
TZOFFSETTO:-0500
TZNAME:CDT
DTSTART:20260308T080000
END:DAYLIGHT
BEGIN:STANDARD
TZOFFSETFROM:-0500
TZOFFSETTO:-0600
TZNAME:CST
DTSTART:20261101T070000
END:STANDARD
END:VTIMEZONE
BEGIN:VEVENT
DTSTART;TZID=America/Chicago:20250114T140000
DTEND;TZID=America/Chicago:20250114T153000
DTSTAMP:20260424T145523
CREATED:20241220T144126Z
LAST-MODIFIED:20241220T144126Z
UID:3200-1736863200-1736868600@navaa.org
SUMMARY:Join OVC for a Webinar About the New Human Trafficking Programmatic Data Dashboard
DESCRIPTION:SAVE THE DATE: \nSave the date for a special webinar offering a first look at the FY 2023–2024 Office for Victims of Crime (OVC) Human Trafficking Performance Measurement Tool Data Dashboard. \nDuring this webinar\, the OVC Performance Management Team will explore the importance of transparency and the nuanced role that data plays within the anti-trafficking field. Using the dynamic and interactive features of the dashboard\, the presenters will showcase recent grantee data to provide context to OVC’s focused work in supporting all victims of human trafficking. \nTitle: Transparency Through Data: OVC’s Human Trafficking Programmatic Data Dashboard\nDate: January 14\, 2025\nTime: 3:00 p.m. – 4:30 p.m. eastern time \nThis webinar will also allow attendees to offer feedback and ask questions regarding the dashboard. \nStay tuned! A registration link will be provided soon.
URL:https://navaa.org/event/join-ovc-for-a-webinar-about-the-new-human-trafficking-programmatic-data-dashboard/
END:VEVENT
BEGIN:VEVENT
DTSTART;TZID=America/Chicago:20250114T140000
DTEND;TZID=America/Chicago:20250114T153000
DTSTAMP:20260424T145523
CREATED:20250108T153229Z
LAST-MODIFIED:20250108T153229Z
UID:3237-1736863200-1736868600@navaa.org
SUMMARY:Transparency Through Data: OVC's Human Trafficking Programmatic Data Dashboard
DESCRIPTION:During this webinar\, the OVC Performance Management Team will explore the importance of transparency and the nuanced role that data plays within the anti-trafficking field. Using the dynamic and interactive features of the dashboard\, the presenters will showcase recent grantee data to provide context to OVC’s focused work in supporting all victims of human trafficking.  For more information\, click HERE.
URL:https://navaa.org/event/transparency-through-data-ovcs-human-trafficking-programmatic-data-dashboard/
END:VEVENT
END:VCALENDAR