BEGIN:VCALENDAR
VERSION:2.0
PRODID:-//NAVAA - ECPv6.15.20//NONSGML v1.0//EN
CALSCALE:GREGORIAN
METHOD:PUBLISH
X-ORIGINAL-URL:https://navaa.org
X-WR-CALDESC:Events for NAVAA
REFRESH-INTERVAL;VALUE=DURATION:PT1H
X-Robots-Tag:noindex
X-PUBLISHED-TTL:PT1H
BEGIN:VTIMEZONE
TZID:America/Chicago
BEGIN:DAYLIGHT
TZOFFSETFROM:-0600
TZOFFSETTO:-0500
TZNAME:CDT
DTSTART:20240310T080000
END:DAYLIGHT
BEGIN:STANDARD
TZOFFSETFROM:-0500
TZOFFSETTO:-0600
TZNAME:CST
DTSTART:20241103T070000
END:STANDARD
BEGIN:DAYLIGHT
TZOFFSETFROM:-0600
TZOFFSETTO:-0500
TZNAME:CDT
DTSTART:20250309T080000
END:DAYLIGHT
BEGIN:STANDARD
TZOFFSETFROM:-0500
TZOFFSETTO:-0600
TZNAME:CST
DTSTART:20251102T070000
END:STANDARD
BEGIN:DAYLIGHT
TZOFFSETFROM:-0600
TZOFFSETTO:-0500
TZNAME:CDT
DTSTART:20260308T080000
END:DAYLIGHT
BEGIN:STANDARD
TZOFFSETFROM:-0500
TZOFFSETTO:-0600
TZNAME:CST
DTSTART:20261101T070000
END:STANDARD
END:VTIMEZONE
BEGIN:VEVENT
DTSTART;TZID=America/Chicago:20250407T120000
DTEND;TZID=America/Chicago:20250407T140000
DTSTAMP:20260424T092725
CREATED:20250317T184722Z
LAST-MODIFIED:20250317T184722Z
UID:3425-1744027200-1744034400@navaa.org
SUMMARY:Celebrating Communities: Honoring NCVRW Across the Country
DESCRIPTION:NOVA joins the National Association of VOCA Assistance Administrators (NAVAA) and National Center for Victims of Crime (NCVC) for a special\, virtual kick-off for National Crime Victims’ Rights Week (NCVRW)! This 1-hour event will highlight how communities across the country are observing #NCVRW2025 and elevating this year’s OVC theme\, Connecting < KINSHIP > Healing. Three NCVRW Community Awareness Projects (CAP) will be featured and advocates from these communities will share their dynamic projects and ideas for raising community awareness of victims’ rights.  For more information\, click HERE.
URL:https://navaa.org/event/celebrating-communities-honoring-ncvrw-across-the-country/
END:VEVENT
END:VCALENDAR