BEGIN:VCALENDAR
VERSION:2.0
PRODID:-//NAVAA - ECPv6.15.20//NONSGML v1.0//EN
CALSCALE:GREGORIAN
METHOD:PUBLISH
X-ORIGINAL-URL:https://navaa.org
X-WR-CALDESC:Events for NAVAA
REFRESH-INTERVAL;VALUE=DURATION:PT1H
X-Robots-Tag:noindex
X-PUBLISHED-TTL:PT1H
BEGIN:VTIMEZONE
TZID:America/Chicago
BEGIN:DAYLIGHT
TZOFFSETFROM:-0600
TZOFFSETTO:-0500
TZNAME:CDT
DTSTART:20240310T080000
END:DAYLIGHT
BEGIN:STANDARD
TZOFFSETFROM:-0500
TZOFFSETTO:-0600
TZNAME:CST
DTSTART:20241103T070000
END:STANDARD
BEGIN:DAYLIGHT
TZOFFSETFROM:-0600
TZOFFSETTO:-0500
TZNAME:CDT
DTSTART:20250309T080000
END:DAYLIGHT
BEGIN:STANDARD
TZOFFSETFROM:-0500
TZOFFSETTO:-0600
TZNAME:CST
DTSTART:20251102T070000
END:STANDARD
BEGIN:DAYLIGHT
TZOFFSETFROM:-0600
TZOFFSETTO:-0500
TZNAME:CDT
DTSTART:20260308T080000
END:DAYLIGHT
BEGIN:STANDARD
TZOFFSETFROM:-0500
TZOFFSETTO:-0600
TZNAME:CST
DTSTART:20261101T070000
END:STANDARD
END:VTIMEZONE
BEGIN:VEVENT
DTSTART;TZID=America/Chicago:20250422T120000
DTEND;TZID=America/Chicago:20250422T131500
DTSTAMP:20260424T092725
CREATED:20250321T164838Z
LAST-MODIFIED:20250321T164838Z
UID:3437-1745323200-1745327700@navaa.org
SUMMARY:Incorporating Interns and Volunteers into Victim Services Unit Responsibilities
DESCRIPTION:*This is not a NAVAA-hosted event.  Please see the registration page for contact details.* \nInterns and volunteers can positively contribute to law enforcement-based victim services. They can facilitate the expansion of services\, be assigned responsibilities that would otherwise not be prioritized\, and serve as effective representatives of victim services and the agencies they serve.  For more information\, click HERE.
URL:https://navaa.org/event/incorporating-interns-and-volunteers-into-victim-services-unit-responsibilities/
END:VEVENT
END:VCALENDAR