BEGIN:VCALENDAR
VERSION:2.0
PRODID:-//NAVAA - ECPv6.15.20//NONSGML v1.0//EN
CALSCALE:GREGORIAN
METHOD:PUBLISH
X-ORIGINAL-URL:https://navaa.org
X-WR-CALDESC:Events for NAVAA
REFRESH-INTERVAL;VALUE=DURATION:PT1H
X-Robots-Tag:noindex
X-PUBLISHED-TTL:PT1H
BEGIN:VTIMEZONE
TZID:America/Chicago
BEGIN:DAYLIGHT
TZOFFSETFROM:-0600
TZOFFSETTO:-0500
TZNAME:CDT
DTSTART:20240310T080000
END:DAYLIGHT
BEGIN:STANDARD
TZOFFSETFROM:-0500
TZOFFSETTO:-0600
TZNAME:CST
DTSTART:20241103T070000
END:STANDARD
BEGIN:DAYLIGHT
TZOFFSETFROM:-0600
TZOFFSETTO:-0500
TZNAME:CDT
DTSTART:20250309T080000
END:DAYLIGHT
BEGIN:STANDARD
TZOFFSETFROM:-0500
TZOFFSETTO:-0600
TZNAME:CST
DTSTART:20251102T070000
END:STANDARD
BEGIN:DAYLIGHT
TZOFFSETFROM:-0600
TZOFFSETTO:-0500
TZNAME:CDT
DTSTART:20260308T080000
END:DAYLIGHT
BEGIN:STANDARD
TZOFFSETFROM:-0500
TZOFFSETTO:-0600
TZNAME:CST
DTSTART:20261101T070000
END:STANDARD
END:VTIMEZONE
BEGIN:VEVENT
DTSTART;TZID=America/Chicago:20250515T080000
DTEND;TZID=America/Chicago:20250515T170000
DTSTAMP:20260424T073454
CREATED:20250515T143857Z
LAST-MODIFIED:20250515T143857Z
UID:3477-1747296000-1747328400@navaa.org
SUMMARY:National Victim Assistance Academy (NVAA) Effective Management Series: Strategic Planning for Program
DESCRIPTION:The mission of NVAA is to provide an intensive\, interactive learning experience to develop and promote professional skills and knowledge for victim service providers. The Effective Management Series offers comprehensive and practical trainings to build organizational capacity. \nStrategic planning is a process to help you determine where your organization is and where it wants to be in the future. Strategic planning can help you answer questions about how your nonprofit organization advances its mission and how you engage staff and the board to identify measurable goals and priorities. In this training\, we will review the strategic planning process to prepare you to create and implement your organization’s strategic plan. The Strategic Planning for Program Managers training is designed for those in leadership roles who are responsible for setting the organization’s direction. The training addresses preparing for a planning process\, creating the common elements of a plan\, and implementing and communicating the final product. \nThe training will be delivered online over the course of 4 weeks\, beginning on May 15\, 2025. Registration is open.
URL:https://navaa.org/event/national-victim-assistance-academy-nvaa-effective-management-series-strategic-planning-for-program/
END:VEVENT
END:VCALENDAR