BEGIN:VCALENDAR
VERSION:2.0
PRODID:-//NAVAA - ECPv6.15.20//NONSGML v1.0//EN
CALSCALE:GREGORIAN
METHOD:PUBLISH
X-ORIGINAL-URL:https://navaa.org
X-WR-CALDESC:Events for NAVAA
REFRESH-INTERVAL;VALUE=DURATION:PT1H
X-Robots-Tag:noindex
X-PUBLISHED-TTL:PT1H
BEGIN:VTIMEZONE
TZID:America/Chicago
BEGIN:DAYLIGHT
TZOFFSETFROM:-0600
TZOFFSETTO:-0500
TZNAME:CDT
DTSTART:20240310T080000
END:DAYLIGHT
BEGIN:STANDARD
TZOFFSETFROM:-0500
TZOFFSETTO:-0600
TZNAME:CST
DTSTART:20241103T070000
END:STANDARD
BEGIN:DAYLIGHT
TZOFFSETFROM:-0600
TZOFFSETTO:-0500
TZNAME:CDT
DTSTART:20250309T080000
END:DAYLIGHT
BEGIN:STANDARD
TZOFFSETFROM:-0500
TZOFFSETTO:-0600
TZNAME:CST
DTSTART:20251102T070000
END:STANDARD
BEGIN:DAYLIGHT
TZOFFSETFROM:-0600
TZOFFSETTO:-0500
TZNAME:CDT
DTSTART:20260308T080000
END:DAYLIGHT
BEGIN:STANDARD
TZOFFSETFROM:-0500
TZOFFSETTO:-0600
TZNAME:CST
DTSTART:20261101T070000
END:STANDARD
END:VTIMEZONE
BEGIN:VEVENT
DTSTART;TZID=America/Chicago:20250616T080000
DTEND;TZID=America/Chicago:20250616T170000
DTSTAMP:20260424T054635
CREATED:20250603T152703Z
LAST-MODIFIED:20250603T200713Z
UID:3499-1750060800-1750093200@navaa.org
SUMMARY:Advanced Skills - Building Trauma-Informed Organizations
DESCRIPTION:*This is not a NAVAA-hosted event.  Please see the registration page for contact details* \nA trauma-informed organization is one where all practices and services are viewed through the lens of trauma. \nIn a trauma-informed organization\, programs respond empathically to survivors’ needs\, ensure their physical and emotional safety\, develop realistic goals\, and avoid re-traumatization. The Building Trauma-Informed Organizations training provides guidance on how your organization can become trauma-informed and how to modify policies and procedures to respond to trauma victims. \nThis training is designed for those responsible for designing and implementing their organization’s programs and policies. \nThis training will be delivered online\, over the course of 5 weeks\, beginning on June 16\, 2025. \nEach week\, except for the introductory week\, will include a facilitated webinar. There are recommended readings and videos\, as well as written assignments. You should expect to spend about an hour per week on the assignments\, in addition to participating in the 75-minute webinar. CEUs will be awarded for those who complete all requirements. You will find the training schedule here. \nPlease review your schedule to make sure you are available to attend either the live or recorded webinars and will be able to make the necessary time commitment to complete the training activities. \nThis training is part of the NVAA Advanced Skills Institute\, and\, like all OVC TTAC trainings\, participation is free. \nFor more information\, click HERE. \n 
URL:https://navaa.org/event/advanced-skills-building-trauma-informed-organizations/
END:VEVENT
END:VCALENDAR