BEGIN:VCALENDAR
VERSION:2.0
PRODID:-//NAVAA - ECPv6.15.20//NONSGML v1.0//EN
CALSCALE:GREGORIAN
METHOD:PUBLISH
X-WR-CALNAME:NAVAA
X-ORIGINAL-URL:https://navaa.org
X-WR-CALDESC:Events for NAVAA
REFRESH-INTERVAL;VALUE=DURATION:PT1H
X-Robots-Tag:noindex
X-PUBLISHED-TTL:PT1H
BEGIN:VTIMEZONE
TZID:America/Chicago
BEGIN:DAYLIGHT
TZOFFSETFROM:-0600
TZOFFSETTO:-0500
TZNAME:CDT
DTSTART:20240310T080000
END:DAYLIGHT
BEGIN:STANDARD
TZOFFSETFROM:-0500
TZOFFSETTO:-0600
TZNAME:CST
DTSTART:20241103T070000
END:STANDARD
BEGIN:DAYLIGHT
TZOFFSETFROM:-0600
TZOFFSETTO:-0500
TZNAME:CDT
DTSTART:20250309T080000
END:DAYLIGHT
BEGIN:STANDARD
TZOFFSETFROM:-0500
TZOFFSETTO:-0600
TZNAME:CST
DTSTART:20251102T070000
END:STANDARD
BEGIN:DAYLIGHT
TZOFFSETFROM:-0600
TZOFFSETTO:-0500
TZNAME:CDT
DTSTART:20260308T080000
END:DAYLIGHT
BEGIN:STANDARD
TZOFFSETFROM:-0500
TZOFFSETTO:-0600
TZNAME:CST
DTSTART:20261101T070000
END:STANDARD
END:VTIMEZONE
BEGIN:VEVENT
DTSTART;TZID=America/Chicago:20250630T080000
DTEND;TZID=America/Chicago:20250725T170000
DTSTAMP:20260424T041632
CREATED:20250606T192423Z
LAST-MODIFIED:20250606T192423Z
UID:3509-1751270400-1753462800@navaa.org
SUMMARY:National Victim Assistance Academy (NVAA) Effective Management Series: Developing and Sustaining Collaborations
DESCRIPTION:*This is not a NAVAA-hosted event.  Please see the registration page for contact details.* \nThe mission of NVAA is to provide an intensive\, interactive learning experience to develop and promote professional skills and knowledge for victim service providers. The Effective Management Series offers comprehensive and practical trainings to build organizational capacity. \nCollaborations are a primary strategy to help an organization achieve its mission; yet\, they are often difficult to implement and sustain. This training will identify methods that you can use to explore\, plan\, implement\, and evaluate strategic collaborations. The Developing and Sustaining Collaborations training is designed for victim service providers who are responsible for developing and sustaining collaborations. \nThe training will be delivered online over the course of 4 weeks\, beginning on June 30\, 2025. Registration will open soon. Sign up for the OVC TTAC email list to receive registration notices. \n 
URL:https://navaa.org/event/national-victim-assistance-academy-nvaa-effective-management-series-developing-and-sustaining-collaborations/
END:VEVENT
BEGIN:VEVENT
DTSTART;TZID=America/Chicago:20250710T140000
DTEND;TZID=America/Chicago:20250710T153000
DTSTAMP:20260424T041632
CREATED:20250325T151705Z
LAST-MODIFIED:20250325T151705Z
UID:3454-1752156000-1752161400@navaa.org
SUMMARY:Victim Advocate and Mental Health Partnerships Peer Consultant Forums
DESCRIPTION:*This is not a NAVAA-hosted event.  Please see the registration page for contact details.* \nAs a result of this forum\, participants will: \n\nReceive informal peer consultation around issues of importance\nHave the opportunity to share best practices with other advocates and clinicians and develop ways to be supportive of one another in their work\nGain resources and ideas from presenters\, clinicians\, and advocates to support their work with children and families\n\nSupport and partnerships between victim advocates and mental health staff can be critical elements in serving children and families seen at children’s advocacy centers (CAC). Victim advocates and mental health clinicians are encouraged to attend as a team to provide the best opportunity for joint learning and rich discussion in sharing best practices in the partnership role.  For more information\, click HERE.
URL:https://navaa.org/event/victim-advocate-and-mental-health-partnerships-peer-consultant-forums/
END:VEVENT
END:VCALENDAR