BEGIN:VCALENDAR
VERSION:2.0
PRODID:-//NAVAA - ECPv6.15.20//NONSGML v1.0//EN
CALSCALE:GREGORIAN
METHOD:PUBLISH
X-ORIGINAL-URL:https://navaa.org
X-WR-CALDESC:Events for NAVAA
REFRESH-INTERVAL;VALUE=DURATION:PT1H
X-Robots-Tag:noindex
X-PUBLISHED-TTL:PT1H
BEGIN:VTIMEZONE
TZID:America/Chicago
BEGIN:DAYLIGHT
TZOFFSETFROM:-0600
TZOFFSETTO:-0500
TZNAME:CDT
DTSTART:20240310T080000
END:DAYLIGHT
BEGIN:STANDARD
TZOFFSETFROM:-0500
TZOFFSETTO:-0600
TZNAME:CST
DTSTART:20241103T070000
END:STANDARD
BEGIN:DAYLIGHT
TZOFFSETFROM:-0600
TZOFFSETTO:-0500
TZNAME:CDT
DTSTART:20250309T080000
END:DAYLIGHT
BEGIN:STANDARD
TZOFFSETFROM:-0500
TZOFFSETTO:-0600
TZNAME:CST
DTSTART:20251102T070000
END:STANDARD
BEGIN:DAYLIGHT
TZOFFSETFROM:-0600
TZOFFSETTO:-0500
TZNAME:CDT
DTSTART:20260308T080000
END:DAYLIGHT
BEGIN:STANDARD
TZOFFSETFROM:-0500
TZOFFSETTO:-0600
TZNAME:CST
DTSTART:20261101T070000
END:STANDARD
END:VTIMEZONE
BEGIN:VEVENT
DTSTART;TZID=America/Chicago:20250630T080000
DTEND;TZID=America/Chicago:20250725T170000
DTSTAMP:20260424T041052
CREATED:20250606T192423Z
LAST-MODIFIED:20250606T192423Z
UID:3509-1751270400-1753462800@navaa.org
SUMMARY:National Victim Assistance Academy (NVAA) Effective Management Series: Developing and Sustaining Collaborations
DESCRIPTION:*This is not a NAVAA-hosted event.  Please see the registration page for contact details.* \nThe mission of NVAA is to provide an intensive\, interactive learning experience to develop and promote professional skills and knowledge for victim service providers. The Effective Management Series offers comprehensive and practical trainings to build organizational capacity. \nCollaborations are a primary strategy to help an organization achieve its mission; yet\, they are often difficult to implement and sustain. This training will identify methods that you can use to explore\, plan\, implement\, and evaluate strategic collaborations. The Developing and Sustaining Collaborations training is designed for victim service providers who are responsible for developing and sustaining collaborations. \nThe training will be delivered online over the course of 4 weeks\, beginning on June 30\, 2025. Registration will open soon. Sign up for the OVC TTAC email list to receive registration notices. \n 
URL:https://navaa.org/event/national-victim-assistance-academy-nvaa-effective-management-series-developing-and-sustaining-collaborations/
END:VEVENT
BEGIN:VEVENT
DTSTART;TZID=America/Chicago:20250715T110000
DTEND;TZID=America/Chicago:20250715T130000
DTSTAMP:20260424T041052
CREATED:20250702T201254Z
LAST-MODIFIED:20250702T201254Z
UID:3541-1752577200-1752584400@navaa.org
SUMMARY:Policing Domestic Violence: Past\, Present\, and Future
DESCRIPTION:*This is a non-NAVAA event.  Any questions should be directed to the organizers on the registration page* \nA movement to treat domestic violence as a public safety issue rather than a private family matter spawned a wave of reform\, culminating in the Violence Against Women Act in the 1994 federal Crime Bill. Mandatory arrest policies\, in particular\, have been widely adopted over the past several decades. \nHowever\, research suggests these laws may not deter domestic violence as intended and may inadvertently draw survivors into the criminal justice system. Moving forward\, how can we ensure new approaches work to interrupt domestic violence\, hold abusers accountable\, and protect survivors? \nJoin the Council on Criminal Justice’s Women’s Justice Commission and a panel of experts to examine the complex impact of domestic violence policing and explore promising strategies to improve safety\, accountability\, and justice for women. \nThe conversation will be followed by a Q&A.  For more information\, click HERE
URL:https://navaa.org/event/policing-domestic-violence-past-present-and-future/
END:VEVENT
BEGIN:VEVENT
DTSTART;TZID=America/Chicago:20250715T123000
DTEND;TZID=America/Chicago:20250715T140000
DTSTAMP:20260424T041052
CREATED:20250630T152507Z
LAST-MODIFIED:20250630T152507Z
UID:3529-1752582600-1752588000@navaa.org
SUMMARY:NAVAA Community of Practice
DESCRIPTION:NAVAA Community of Practice \nEvery 3rd Tuesday from 1:30-3:00 pm ET \nNAVAA’s Community of Practice is a monthly collaborative session where VOCA Assistance Administrators will share tools\, strategies\, and real-world experiences. Each meeting features peer-led presentations and guided discussion\, focusing on practical implementation and lessons learned. This space supports ongoing professional development and advances our ability to serve victims through shared expertise. \nTo join the meeting\, click HERE.
URL:https://navaa.org/event/navaa-community-of-practice/
END:VEVENT
END:VCALENDAR