BEGIN:VCALENDAR
VERSION:2.0
PRODID:-//NAVAA - ECPv6.15.20//NONSGML v1.0//EN
CALSCALE:GREGORIAN
METHOD:PUBLISH
X-ORIGINAL-URL:https://navaa.org
X-WR-CALDESC:Events for NAVAA
REFRESH-INTERVAL;VALUE=DURATION:PT1H
X-Robots-Tag:noindex
X-PUBLISHED-TTL:PT1H
BEGIN:VTIMEZONE
TZID:America/Chicago
BEGIN:DAYLIGHT
TZOFFSETFROM:-0600
TZOFFSETTO:-0500
TZNAME:CDT
DTSTART:20240310T080000
END:DAYLIGHT
BEGIN:STANDARD
TZOFFSETFROM:-0500
TZOFFSETTO:-0600
TZNAME:CST
DTSTART:20241103T070000
END:STANDARD
BEGIN:DAYLIGHT
TZOFFSETFROM:-0600
TZOFFSETTO:-0500
TZNAME:CDT
DTSTART:20250309T080000
END:DAYLIGHT
BEGIN:STANDARD
TZOFFSETFROM:-0500
TZOFFSETTO:-0600
TZNAME:CST
DTSTART:20251102T070000
END:STANDARD
BEGIN:DAYLIGHT
TZOFFSETFROM:-0600
TZOFFSETTO:-0500
TZNAME:CDT
DTSTART:20260308T080000
END:DAYLIGHT
BEGIN:STANDARD
TZOFFSETFROM:-0500
TZOFFSETTO:-0600
TZNAME:CST
DTSTART:20261101T070000
END:STANDARD
END:VTIMEZONE
BEGIN:VEVENT
DTSTART;TZID=America/Chicago:20250630T080000
DTEND;TZID=America/Chicago:20250725T170000
DTSTAMP:20260424T041713
CREATED:20250606T192423Z
LAST-MODIFIED:20250606T192423Z
UID:3509-1751270400-1753462800@navaa.org
SUMMARY:National Victim Assistance Academy (NVAA) Effective Management Series: Developing and Sustaining Collaborations
DESCRIPTION:*This is not a NAVAA-hosted event.  Please see the registration page for contact details.* \nThe mission of NVAA is to provide an intensive\, interactive learning experience to develop and promote professional skills and knowledge for victim service providers. The Effective Management Series offers comprehensive and practical trainings to build organizational capacity. \nCollaborations are a primary strategy to help an organization achieve its mission; yet\, they are often difficult to implement and sustain. This training will identify methods that you can use to explore\, plan\, implement\, and evaluate strategic collaborations. The Developing and Sustaining Collaborations training is designed for victim service providers who are responsible for developing and sustaining collaborations. \nThe training will be delivered online over the course of 4 weeks\, beginning on June 30\, 2025. Registration will open soon. Sign up for the OVC TTAC email list to receive registration notices. \n 
URL:https://navaa.org/event/national-victim-assistance-academy-nvaa-effective-management-series-developing-and-sustaining-collaborations/
END:VEVENT
BEGIN:VEVENT
DTSTART;TZID=America/Chicago:20250721T100000
DTEND;TZID=America/Chicago:20250725T153000
DTSTAMP:20260424T041713
CREATED:20250603T195749Z
LAST-MODIFIED:20250603T195749Z
UID:3503-1753092000-1753457400@navaa.org
SUMMARY:Meeting the Moment: #NOVA51 Goes Virtual!
DESCRIPTION:NOVA51 Has Gone Completely Virtual!\n\n\n\n\nJuly 21 – 25\, 2025 at 11am – 4:30pm ET\n\n\n\n\n*This is not a NAVAA-hosted event.  Please see the information below for contact details* \nOver the past few months\, we’ve heard from countless advocates and organizations facing funding uncertainty\, making travel to in-person training events more difficult than ever. We recognize the immense challenges you’re navigating\, and we’re committed to ensuring that every advocate—regardless of budget constraints—has access to the high-quality training\, networking\, and professional development they deserve. \nGREAT VALUE! Attendees will receive 17 CEUs in live workshops\, with access to an additional 80 CEUs of recordings post-conference!
URL:https://navaa.org/event/meeting-the-moment-nova51-goes-virtual/
END:VEVENT
BEGIN:VEVENT
DTSTART;TZID=America/Chicago:20250723T130000
DTEND;TZID=America/Chicago:20250723T140000
DTSTAMP:20260424T041713
CREATED:20250626T184925Z
LAST-MODIFIED:20250626T184925Z
UID:3517-1753275600-1753279200@navaa.org
SUMMARY:Rethinking Public Safety in Small Town America
DESCRIPTION:*This is not a NAVAA-hosted event.  Please refer to the registration page for contact information.* \nPlease join NCJA for our next Policy Session on July 23 at 2:00 pm ET: Shifting Populations\, Escalating Risks: Rethinking Public Safety in Small-Town America.  \nCommunity violence is declining. However\, police encounters are becoming more dangerous\, especially across rural and small-town America. This presentation unpacks the drivers of that trend: pandemic-era population shifts\, scarce behavioral-health resources\, and a surge of mental-health and disturbance 911 calls managed by understaffed\, under-trained departments. We also outline the contexts in which police contacts are most likely to escalate into physical altercations. Finally\, we’ll spotlight solutions already delivering results\, including civilian mobile-crisis teams in Denver\, Eugene\, Olympia\, and rural Kansas\, statewide de-escalation mandates\, and tele-behavioral-health hubs. \nFor more information\, click HERE.
URL:https://navaa.org/event/rethinking-public-safety-in-small-town-america/
END:VEVENT
END:VCALENDAR