BEGIN:VCALENDAR
VERSION:2.0
PRODID:-//NAVAA - ECPv6.15.20//NONSGML v1.0//EN
CALSCALE:GREGORIAN
METHOD:PUBLISH
X-ORIGINAL-URL:https://navaa.org
X-WR-CALDESC:Events for NAVAA
REFRESH-INTERVAL;VALUE=DURATION:PT1H
X-Robots-Tag:noindex
X-PUBLISHED-TTL:PT1H
BEGIN:VTIMEZONE
TZID:America/Chicago
BEGIN:DAYLIGHT
TZOFFSETFROM:-0600
TZOFFSETTO:-0500
TZNAME:CDT
DTSTART:20240310T080000
END:DAYLIGHT
BEGIN:STANDARD
TZOFFSETFROM:-0500
TZOFFSETTO:-0600
TZNAME:CST
DTSTART:20241103T070000
END:STANDARD
BEGIN:DAYLIGHT
TZOFFSETFROM:-0600
TZOFFSETTO:-0500
TZNAME:CDT
DTSTART:20250309T080000
END:DAYLIGHT
BEGIN:STANDARD
TZOFFSETFROM:-0500
TZOFFSETTO:-0600
TZNAME:CST
DTSTART:20251102T070000
END:STANDARD
BEGIN:DAYLIGHT
TZOFFSETFROM:-0600
TZOFFSETTO:-0500
TZNAME:CDT
DTSTART:20260308T080000
END:DAYLIGHT
BEGIN:STANDARD
TZOFFSETFROM:-0500
TZOFFSETTO:-0600
TZNAME:CST
DTSTART:20261101T070000
END:STANDARD
END:VTIMEZONE
BEGIN:VEVENT
DTSTART;TZID=America/Chicago:20250804T080000
DTEND;TZID=America/Chicago:20250908T170000
DTSTAMP:20260424T011121
CREATED:20250804T181810Z
LAST-MODIFIED:20250804T181810Z
UID:3603-1754294400-1757350800@navaa.org
SUMMARY:National Victim Assistance Academy (NVAA) Effective Management Series: Financial Management
DESCRIPTION:*This is not a NAVAA-hosted event.  Please see the registration page for contact details* \nThe mission of NVAA is to provide an intensive\, interactive learning experience to develop and promote professional skills and knowledge for victim service providers. The Effective Management Series offers comprehensive and practical trainings to build organizational capacity. \nTo serve crime victims more effectively\, victim service organizations must use fundamental financial management practices to stay solvent and operate properly. In the Financial Management training\, you will learn key bookkeeping and accounting principles\, how to prepare financial documents\, and how to prevent fraud. \nThis training is designed for those who are new to their organization’s financial management. It will be delivered online\, over the course of 6 weeks\, beginning on August 4\, 2025. \nThis course is already full. Sign up for the OVC TTAC email list to receive notice for future offerings.
URL:https://navaa.org/event/national-victim-assistance-academy-nvaa-effective-management-series-financial-management/
END:VEVENT
END:VCALENDAR