BEGIN:VCALENDAR
VERSION:2.0
PRODID:-//NAVAA - ECPv6.15.20//NONSGML v1.0//EN
CALSCALE:GREGORIAN
METHOD:PUBLISH
X-WR-CALNAME:NAVAA
X-ORIGINAL-URL:https://navaa.org
X-WR-CALDESC:Events for NAVAA
REFRESH-INTERVAL;VALUE=DURATION:PT1H
X-Robots-Tag:noindex
X-PUBLISHED-TTL:PT1H
BEGIN:VTIMEZONE
TZID:America/Chicago
BEGIN:DAYLIGHT
TZOFFSETFROM:-0600
TZOFFSETTO:-0500
TZNAME:CDT
DTSTART:20240310T080000
END:DAYLIGHT
BEGIN:STANDARD
TZOFFSETFROM:-0500
TZOFFSETTO:-0600
TZNAME:CST
DTSTART:20241103T070000
END:STANDARD
BEGIN:DAYLIGHT
TZOFFSETFROM:-0600
TZOFFSETTO:-0500
TZNAME:CDT
DTSTART:20250309T080000
END:DAYLIGHT
BEGIN:STANDARD
TZOFFSETFROM:-0500
TZOFFSETTO:-0600
TZNAME:CST
DTSTART:20251102T070000
END:STANDARD
BEGIN:DAYLIGHT
TZOFFSETFROM:-0600
TZOFFSETTO:-0500
TZNAME:CDT
DTSTART:20260308T080000
END:DAYLIGHT
BEGIN:STANDARD
TZOFFSETFROM:-0500
TZOFFSETTO:-0600
TZNAME:CST
DTSTART:20261101T070000
END:STANDARD
END:VTIMEZONE
BEGIN:VEVENT
DTSTART;TZID=America/Chicago:20251210T130000
DTEND;TZID=America/Chicago:20251210T140000
DTSTAMP:20260423T194457
CREATED:20251204T205017Z
LAST-MODIFIED:20251204T205017Z
UID:5370-1765371600-1765375200@navaa.org
SUMMARY:Vital Subjects Webinar: Restorative Justice Expands Victim Choices and Elevates Victim Voices
DESCRIPTION:Office for Victims of Crime Training & Technical Assistance Center \n2-3 p.m. ET \nDecember 10\, 2025 \nMany victims of crime envision a more expansive definition of justice outside of the offender-focused criminal justice system we all know. This expansion of justice options can be found within the spectrum of restorative justice. This Vital Subjects webinar is designed to provide an overview of restorative justice practices and principles that can provide opportunities for victims’ voices to be elevated and for offenders to learn more about the impact of the harm they have caused. \nParticipants will be able to— \n\nIdentify three restorative practices that elevate victims’ voices.\nDescribe the connections between trauma-informed practices and restorative practices.\n\nContact event organizers for more information: Vital Subjects Webinar \n****This is not a NAVAA-hosted event.
URL:https://navaa.org/event/vital-subjects-webinar-restorative-justice-expands-victim-choices-and-elevates-victim-voices/
CATEGORIES:Members Only Events,Public Events
END:VEVENT
BEGIN:VEVENT
DTSTART;TZID=America/Chicago:20251210T130000
DTEND;TZID=America/Chicago:20251210T153000
DTSTAMP:20260423T194457
CREATED:20251210T183220Z
LAST-MODIFIED:20251210T183220Z
UID:5386-1765371600-1765380600@navaa.org
SUMMARY:AIS Senate and House Briefings
DESCRIPTION:Senate and House Briefings \nThis briefing will feature experts from the Alliance for Immigrant Survivors\, alongside a survivor advocate with lived experience\, discussing the real-world consequences of current enforcement practices for survivor safety\, access to justice\, and community trust. Speakers will highlight how administrative actions have created volatility in critical funding streams for survivor services. Experts will also share policy solutions to strengthen protections and services for immigrant survivors and to ensure that all individuals can seek safety without fear. \nSenate Staff Briefing: Wednesday\, December 10th\, from 2-3 pm ET Registration Link \nHouse Staff Briefing: Wednesday\, December 10th\, from 3:30-4:30 pm ET Registration Link \n****This is not a NAVAA-hosted event. Please contact AIS for more information. \n 
URL:https://navaa.org/event/ais-senate-and-house-briefings/
CATEGORIES:Members Only Events
END:VEVENT
END:VCALENDAR