BEGIN:VCALENDAR
VERSION:2.0
PRODID:-//NAVAA - ECPv6.15.20//NONSGML v1.0//EN
CALSCALE:GREGORIAN
METHOD:PUBLISH
X-WR-CALNAME:NAVAA
X-ORIGINAL-URL:https://navaa.org
X-WR-CALDESC:Events for NAVAA
REFRESH-INTERVAL;VALUE=DURATION:PT1H
X-Robots-Tag:noindex
X-PUBLISHED-TTL:PT1H
BEGIN:VTIMEZONE
TZID:America/Chicago
BEGIN:DAYLIGHT
TZOFFSETFROM:-0600
TZOFFSETTO:-0500
TZNAME:CDT
DTSTART:20240310T080000
END:DAYLIGHT
BEGIN:STANDARD
TZOFFSETFROM:-0500
TZOFFSETTO:-0600
TZNAME:CST
DTSTART:20241103T070000
END:STANDARD
BEGIN:DAYLIGHT
TZOFFSETFROM:-0600
TZOFFSETTO:-0500
TZNAME:CDT
DTSTART:20250309T080000
END:DAYLIGHT
BEGIN:STANDARD
TZOFFSETFROM:-0500
TZOFFSETTO:-0600
TZNAME:CST
DTSTART:20251102T070000
END:STANDARD
BEGIN:DAYLIGHT
TZOFFSETFROM:-0600
TZOFFSETTO:-0500
TZNAME:CDT
DTSTART:20260308T080000
END:DAYLIGHT
BEGIN:STANDARD
TZOFFSETFROM:-0500
TZOFFSETTO:-0600
TZNAME:CST
DTSTART:20261101T070000
END:STANDARD
END:VTIMEZONE
BEGIN:VEVENT
DTSTART;TZID=America/Chicago:20251211T130000
DTEND;TZID=America/Chicago:20251211T143000
DTSTAMP:20260423T194456
CREATED:20251210T175244Z
LAST-MODIFIED:20251210T175710Z
UID:5375-1765458000-1765463400@navaa.org
SUMMARY:Evaluating a National Victim Hotline:  How We Did It and What We Learned
DESCRIPTION:Thursday\, December 11\, 2:00 – 3:30 pm ET \nJoin CVR for this informative session for researchers and service providers. \nSince 2020\, the Urban Institute has partnered with the National Center for Victims of Crime (NCVC) to evaluate their VictimConnect Resource Center\, beginning with a formative evaluation and now concluding with an implementation and outcome evaluation. VictimConnect provides relevant referrals\, information\, and emotional support through anonymous calls\, chats\, and texts as the only national helpline serving victims of all crimes. In this webinar\, participants will learn about the VictimConnect model\, the researcher/practitioner partnership\, and the evaluation methods\, including a longitudinal survey of visitors. The presenters will then share key results from the study and how NCVC and other providers can apply those findings. \nLearning Objectives: \n· Explore methods\, challenges\, and successes for evaluating a victim hotline using trauma-informed approaches and rigorous\, mixed-method designs.\n· Learn how effective VictimConnect’s model\, operations\, and services are at meeting the needs of victims.\n· Discuss opportunities to apply lessons learned from the researcher/practitioner partnership and evaluation results in hotline operations and future evaluation \nREGISTER HERE \n****This is not a NAVAA-hosted event. Please see registration page for contact information. \n  \n  \n 
URL:https://navaa.org/event/evaluating-a-national-victim-hotline-how-we-did-it-and-what-we-learned/
CATEGORIES:Members Only Events,Public Events
END:VEVENT
END:VCALENDAR