BEGIN:VCALENDAR
VERSION:2.0
PRODID:-//NAVAA - ECPv6.15.20//NONSGML v1.0//EN
CALSCALE:GREGORIAN
METHOD:PUBLISH
X-ORIGINAL-URL:https://navaa.org
X-WR-CALDESC:Events for NAVAA
REFRESH-INTERVAL;VALUE=DURATION:PT1H
X-Robots-Tag:noindex
X-PUBLISHED-TTL:PT1H
BEGIN:VTIMEZONE
TZID:America/Chicago
BEGIN:DAYLIGHT
TZOFFSETFROM:-0600
TZOFFSETTO:-0500
TZNAME:CDT
DTSTART:20250309T080000
END:DAYLIGHT
BEGIN:STANDARD
TZOFFSETFROM:-0500
TZOFFSETTO:-0600
TZNAME:CST
DTSTART:20251102T070000
END:STANDARD
BEGIN:DAYLIGHT
TZOFFSETFROM:-0600
TZOFFSETTO:-0500
TZNAME:CDT
DTSTART:20260308T080000
END:DAYLIGHT
BEGIN:STANDARD
TZOFFSETFROM:-0500
TZOFFSETTO:-0600
TZNAME:CST
DTSTART:20261101T070000
END:STANDARD
BEGIN:DAYLIGHT
TZOFFSETFROM:-0600
TZOFFSETTO:-0500
TZNAME:CDT
DTSTART:20270314T080000
END:DAYLIGHT
BEGIN:STANDARD
TZOFFSETFROM:-0500
TZOFFSETTO:-0600
TZNAME:CST
DTSTART:20271107T070000
END:STANDARD
END:VTIMEZONE
BEGIN:VEVENT
DTSTART;TZID=America/Chicago:20260122T080000
DTEND;TZID=America/Chicago:20260122T170000
DTSTAMP:20260423T181936
CREATED:20260113T153408Z
LAST-MODIFIED:20260113T153408Z
UID:5610-1769068800-1769101200@navaa.org
SUMMARY:2026 Financial Management Training Webinar - Registration Opens TODAY!
DESCRIPTION:OJP will offer a webinar titled: Indirect Cost scheduled to take place online on Thursday\, January 22 at 2pm-3:30pm EST. \nThis webinar is designed to provide an overview of indirect costs\, including how they are defined and calculated. It also provides guidance on preparing and submitting an indirect cost rate proposal for approval when the Department of Justice (DOJ) serves as the cognizant agency. \nPlease have your organization’s Unique Entity Identifier (UEI) and one of your active OJP Grant Numbers available during the registration process. \nOn Tuesday\, January 13\, 2026\, at 2pm EST\, registration for this webinar will open. Please visit the seminar website and click on the ‘Registration’ tab in the right-hand navigation menu to sign up. Live OJP Financial Management Training \nOnce registration closes\, you will receive an email confirming your online enrollment and request to attend the webinar.  You will receive a second email the day before the event with the webinar link\, power point slides\, and the pass code to the webinar. \nIf you have any questions and/or comments\, please contact the registrar via email at DOJFinancialTraining@usdoj.gov
URL:https://navaa.org/event/2026-financial-management-training-webinar-registration-opens-today/
CATEGORIES:Members Only Events
END:VEVENT
END:VCALENDAR