BEGIN:VCALENDAR
VERSION:2.0
PRODID:-//NAVAA - ECPv6.15.20//NONSGML v1.0//EN
CALSCALE:GREGORIAN
METHOD:PUBLISH
X-ORIGINAL-URL:https://navaa.org
X-WR-CALDESC:Events for NAVAA
REFRESH-INTERVAL;VALUE=DURATION:PT1H
X-Robots-Tag:noindex
X-PUBLISHED-TTL:PT1H
BEGIN:VTIMEZONE
TZID:America/Chicago
BEGIN:DAYLIGHT
TZOFFSETFROM:-0600
TZOFFSETTO:-0500
TZNAME:CDT
DTSTART:20250309T080000
END:DAYLIGHT
BEGIN:STANDARD
TZOFFSETFROM:-0500
TZOFFSETTO:-0600
TZNAME:CST
DTSTART:20251102T070000
END:STANDARD
BEGIN:DAYLIGHT
TZOFFSETFROM:-0600
TZOFFSETTO:-0500
TZNAME:CDT
DTSTART:20260308T080000
END:DAYLIGHT
BEGIN:STANDARD
TZOFFSETFROM:-0500
TZOFFSETTO:-0600
TZNAME:CST
DTSTART:20261101T070000
END:STANDARD
BEGIN:DAYLIGHT
TZOFFSETFROM:-0600
TZOFFSETTO:-0500
TZNAME:CDT
DTSTART:20270314T080000
END:DAYLIGHT
BEGIN:STANDARD
TZOFFSETFROM:-0500
TZOFFSETTO:-0600
TZNAME:CST
DTSTART:20271107T070000
END:STANDARD
END:VTIMEZONE
BEGIN:VEVENT
DTSTART;TZID=America/Chicago:20260318T130000
DTEND;TZID=America/Chicago:20260318T153000
DTSTAMP:20260423T150041
CREATED:20260306T205205Z
LAST-MODIFIED:20260306T205205Z
UID:5844-1773838800-1773847800@navaa.org
SUMMARY:Technology-Facilitated Intimate Partner Violence
DESCRIPTION:On March 18 at 2:00 p.m. ET\, the Office for Victims of Crime Training and Technical Assistance Center will present an online Expert Q&A discussion with Crystal Bennett and Cheryl Peace on “Technology-Facilitated Intimate Partner Violence.” \nThe emergence and evolution of technology enable youth and adults to connect\, research new topics\, build social networks\, and increase their communication skills. But although technology offers many positive opportunities\, abusers can also exploit it to cause harm. Perpetrators of intimate partner violence (IPV) may use technology as an additional method of manipulation\, coercion\, intimidation\, and abuse. \nFor more information or to register\, click HERE. \n*This is not a NAVAA-hosted event.  Please see the registration page for contact details.*
URL:https://navaa.org/event/technology-facilitated-intimate-partner-violence/
CATEGORIES:Members Only Events
END:VEVENT
END:VCALENDAR