BEGIN:VCALENDAR
VERSION:2.0
PRODID:-//NAVAA - ECPv6.15.20//NONSGML v1.0//EN
CALSCALE:GREGORIAN
METHOD:PUBLISH
X-WR-CALNAME:NAVAA
X-ORIGINAL-URL:https://navaa.org
X-WR-CALDESC:Events for NAVAA
REFRESH-INTERVAL;VALUE=DURATION:PT1H
X-Robots-Tag:noindex
X-PUBLISHED-TTL:PT1H
BEGIN:VTIMEZONE
TZID:America/Chicago
BEGIN:DAYLIGHT
TZOFFSETFROM:-0600
TZOFFSETTO:-0500
TZNAME:CDT
DTSTART:20240310T080000
END:DAYLIGHT
BEGIN:STANDARD
TZOFFSETFROM:-0500
TZOFFSETTO:-0600
TZNAME:CST
DTSTART:20241103T070000
END:STANDARD
BEGIN:DAYLIGHT
TZOFFSETFROM:-0600
TZOFFSETTO:-0500
TZNAME:CDT
DTSTART:20250309T080000
END:DAYLIGHT
BEGIN:STANDARD
TZOFFSETFROM:-0500
TZOFFSETTO:-0600
TZNAME:CST
DTSTART:20251102T070000
END:STANDARD
BEGIN:DAYLIGHT
TZOFFSETFROM:-0600
TZOFFSETTO:-0500
TZNAME:CDT
DTSTART:20260308T080000
END:DAYLIGHT
BEGIN:STANDARD
TZOFFSETFROM:-0500
TZOFFSETTO:-0600
TZNAME:CST
DTSTART:20261101T070000
END:STANDARD
END:VTIMEZONE
BEGIN:VEVENT
DTSTART;TZID=America/Chicago:20250916T090000
DTEND;TZID=America/Chicago:20250917T160000
DTSTAMP:20260423T231203
CREATED:20250804T185305Z
LAST-MODIFIED:20250825T142909Z
UID:3611-1758013200-1758124800@navaa.org
SUMMARY:2025 Financial Management Training Virtual Seminar
DESCRIPTION:*This is not a NAVAA-based event.  Please see the registration page for contact details* \nOJP has scheduled a Basic Financial Training Virtual Seminar for September 16-17\, 2025\, from 10 AM – 5 PM EST. Registration for the seminar will open on Wednesday\, July 30\, 2025\, at 2 PM EST. Please visit the seminar website — Live OJP Financial Management Training – click on the ‘Registration’ tab in the right-hand navigation menu to sign up.
URL:https://navaa.org/event/2025-financial-management-training-virtual-seminar/
CATEGORIES:Members Only Events,Public Events
END:VEVENT
BEGIN:VEVENT
DTSTART;TZID=America/Chicago:20250916T130000
DTEND;TZID=America/Chicago:20250916T143000
DTSTAMP:20260423T231203
CREATED:20250827T144230Z
LAST-MODIFIED:20250827T144230Z
UID:4843-1758027600-1758033000@navaa.org
SUMMARY:Victim Assistance Response to Mass Violence Webinar Series: The First 48 Hours and 48 Hours and Beyond
DESCRIPTION:Please join us on Tuesday\, September 16\, 2025\, and Tuesday\, September 30\, 2025\, from 2‒3:30 p.m. ET\, for the first two installments of the Office for Victims of Crime Training and Technical Assistance Center’s (OVC TTAC) Victim Assistance Response to Mass Violence Webinar Series: The First 48 Hours and 48 Hours and Beyond\, which will highlight the importance of victim service providers responding to incidents of mass violence and terrorism. For more information\, please click HERE. \n*This is not a NAVAA-hosted event.  Please refer to the registration page for contact details.*
URL:https://navaa.org/event/victim-assistance-response-to-mass-violence-webinar-series-the-first-48-hours-and-48-hours-and-beyond/
CATEGORIES:Members Only Events
END:VEVENT
BEGIN:VEVENT
DTSTART;TZID=America/Chicago:20250923T130000
DTEND;TZID=America/Chicago:20250923T140000
DTSTAMP:20260423T231203
CREATED:20250905T191646Z
LAST-MODIFIED:20250905T191646Z
UID:4893-1758632400-1758636000@navaa.org
SUMMARY:Expert Q&A: Strengthening Our Own Support Systems: Promoting Positive Culture Instead of Cancel Culture
DESCRIPTION:Studies show that approximately 30 percent of employees experience workplace bullying at some point in their careers\, leading to increased stress\, anxiety\, depression\, and decreased job satisfaction. Factors like bullying and cancel culture can have severe consequences for organizations\, leading to a toxic work environment that affects team morale\, cohesion\, and trust. The essential importance of addressing bullying and toxic stress in victim services is to ensure the well-being of both staff and clients. \nAre you interested in understanding how to address the impact of bullying to empower your team and maintain well-being in high-stress environments? Do you have questions about how to promote constructive dialogue when navigating challenging conversations? \n*This is not a NAVAA-hosted event.  Please refer to the registration page for contact details.* \nRegistration is now open.
URL:https://navaa.org/event/expert-qa-strengthening-our-own-support-systems-promoting-positive-culture-instead-of-cancel-culture/
CATEGORIES:Members Only Events,Public Events
END:VEVENT
BEGIN:VEVENT
DTSTART;TZID=America/Chicago:20250930T130000
DTEND;TZID=America/Chicago:20250930T143000
DTSTAMP:20260423T231203
CREATED:20250905T192130Z
LAST-MODIFIED:20250905T192130Z
UID:4897-1759237200-1759242600@navaa.org
SUMMARY:OVC TTAC Victim Assistance Response to Mass Violence Webinar Series
DESCRIPTION:Please join us on Tuesday\, September 16\, 2025\, and Tuesday\, September 30\, 2025\, from 2‒3:30 p.m. ET\, for the first two installments of OVC TTAC’s Victim Assistance Response to Mass Violence Webinar Series: The First 48 Hours and 48 Hours and Beyond\, which will highlight the importance of victim service providers responding to incidents of mass violence and terrorism. Please join us for the following sessions. \n  \nThe first session focuses on: \n\nthe steps to implementing a response\,\ncommunication strategies during a response\,\nconsiderations for setting up a family assistance center\,\nchallenges with victim identification and death notification\, and\nthe key elements of volunteer and donation management.\n\n  \nThe second session builds on the concepts discussed in the first webinar “Victim Assistance Response to Mass Violence: The First 48 Hours\,” and provides an overview of: \n\nthe transition from short- to long-term assistance;\nstrategies for implementing productive outreach;\nunderstanding immediate\, transitional\, and long-term needs of survivors; and\napproaches to honoring victims and survivors.\n\n*This is not a NAVAA-hosted event.  Please refer to the registration page for contact details.* \nRegistration is now open for The First 48 Hours and 48 Hours and Beyond.
URL:https://navaa.org/event/ovc-ttac-victim-assistance-response-to-mass-violence-webinar-series-2/
CATEGORIES:Members Only Events
END:VEVENT
END:VCALENDAR