BEGIN:VCALENDAR
VERSION:2.0
PRODID:-//NAVAA - ECPv6.15.20//NONSGML v1.0//EN
CALSCALE:GREGORIAN
METHOD:PUBLISH
X-WR-CALNAME:NAVAA
X-ORIGINAL-URL:https://navaa.org
X-WR-CALDESC:Events for NAVAA
REFRESH-INTERVAL;VALUE=DURATION:PT1H
X-Robots-Tag:noindex
X-PUBLISHED-TTL:PT1H
BEGIN:VTIMEZONE
TZID:America/Chicago
BEGIN:DAYLIGHT
TZOFFSETFROM:-0600
TZOFFSETTO:-0500
TZNAME:CDT
DTSTART:20240310T080000
END:DAYLIGHT
BEGIN:STANDARD
TZOFFSETFROM:-0500
TZOFFSETTO:-0600
TZNAME:CST
DTSTART:20241103T070000
END:STANDARD
BEGIN:DAYLIGHT
TZOFFSETFROM:-0600
TZOFFSETTO:-0500
TZNAME:CDT
DTSTART:20250309T080000
END:DAYLIGHT
BEGIN:STANDARD
TZOFFSETFROM:-0500
TZOFFSETTO:-0600
TZNAME:CST
DTSTART:20251102T070000
END:STANDARD
BEGIN:DAYLIGHT
TZOFFSETFROM:-0600
TZOFFSETTO:-0500
TZNAME:CDT
DTSTART:20260308T080000
END:DAYLIGHT
BEGIN:STANDARD
TZOFFSETFROM:-0500
TZOFFSETTO:-0600
TZNAME:CST
DTSTART:20261101T070000
END:STANDARD
END:VTIMEZONE
BEGIN:VEVENT
DTSTART;TZID=America/Chicago:20251104T123000
DTEND;TZID=America/Chicago:20251104T133000
DTSTAMP:20260423T195254
CREATED:20251022T192653Z
LAST-MODIFIED:20251022T204153Z
UID:5013-1762259400-1762263000@navaa.org
SUMMARY:NAVAA Member Debrief:  A Monthly Member Roundtable
DESCRIPTION: Join us for regular opportunities to share insights\, build relationships\, and support one another across our peer network. \nEvery 1st Tuesday from 1:30-2:30 pm ET \nJoin us for a monthly\, member-driven roundtable offering space for candid conversation and peer support. This informal meeting invites VOCA Assistance Administrators to share updates\, surface challenges\, and speak openly about what is happening in the field. Whether you’d like to raise an issue\, ask a question\, or simply listen in\, the NAVAA Member Debrief offers a valuable connection point for staying informed and supported. \nTo join the meeting\, click HERE. \n 
URL:https://navaa.org/event/navaa-member-debrief-a-monthly-member-roundtable-4/
CATEGORIES:Members Only Events
END:VEVENT
BEGIN:VEVENT
DTSTART;TZID=America/Chicago:20251105T130000
DTEND;TZID=America/Chicago:20251105T140000
DTSTAMP:20260423T195254
CREATED:20251022T192517Z
LAST-MODIFIED:20251022T192517Z
UID:5010-1762347600-1762351200@navaa.org
SUMMARY:NCJA Government Affairs Update
DESCRIPTION:In this update\, NCJA Director of Government Affairs Elizabeth Pyke will discuss the latest news about the government shutdown\, the FY26 appropriations cycle and Department of Justice granting agency actions. She will also discuss any new relevant information about special grant conditions. There will be ample opportunity for NCJA members to ask questions and to share amongst themselves issues of common interest and concern. \nRegistration is required\, and participation is limited to NCJA members and staff of member agencies.
URL:https://navaa.org/event/ncja-government-affairs-update/
CATEGORIES:Members Only Events
END:VEVENT
BEGIN:VEVENT
DTSTART;TZID=America/Chicago:20251118T123000
DTEND;TZID=America/Chicago:20251118T140000
DTSTAMP:20260423T195254
CREATED:20251022T185815Z
LAST-MODIFIED:20251022T185815Z
UID:5006-1763469000-1763474400@navaa.org
SUMMARY:NAVAA Annual Membership Meeting
DESCRIPTION:Please join us as the NAVAA Board of Directors and Staff provide an Annual Report to members\, featuring updates on the organization’s activities\, financial standing\, and DOJ grant projects. The meeting is open to all VOCA administrators and staff of designated state VOCA victim assistance agencies. Membership will also vote to elect four (4) candidates for the Association’s thirteen-member Board of Directors. Each candidate will introduce themselves during the meeting\, and balloting will be conducted using an online voting system. \nRegistration is required at Zoom: NAVAA Annual Membership Meeting Registration.  \n 
URL:https://navaa.org/event/navaa-annual-membership-meeting/
CATEGORIES:Members Only Events
END:VEVENT
BEGIN:VEVENT
DTSTART;TZID=America/Chicago:20251118T140000
DTEND;TZID=America/Chicago:20251118T153000
DTSTAMP:20260423T195254
CREATED:20251117T224153Z
LAST-MODIFIED:20251118T043549Z
UID:5219-1763474400-1763479800@navaa.org
SUMMARY:Staying in Compliance: Meeting Federal Time-Keeping Requirements
DESCRIPTION:During this virtual training workshop\, participants will gain an understanding of federal time-keeping requirements\, including those outlined in Title 2 of the Code of Federal Regulations\, Part 200 (2 CFR 200)\, and the U.S. Department of Justice Grants Financial Guide\, which applies to all recipients of federal funding from DOJ. Additionally\, participants will gain an understanding of best practices related to implementing timesheet requirements and monitoring subrecipients for compliance. \nRegister Here \n***This is not a NAVAA hosted event. Please contact Kellie Rabenhorst at NCJA for more information: krabenhorst@ncja.org
URL:https://navaa.org/event/staying-in-compliance-meeting-federal-time-keeping-requirements/
CATEGORIES:Members Only Events,Public Events
END:VEVENT
BEGIN:VEVENT
DTSTART;TZID=America/Chicago:20251119T120000
DTEND;TZID=America/Chicago:20251119T130000
DTSTAMP:20260423T195254
CREATED:20251118T162216Z
LAST-MODIFIED:20251118T162216Z
UID:5265-1763553600-1763557200@navaa.org
SUMMARY:AI Legislation to Watch in the 50 States
DESCRIPTION:****This is not a NAVAA-hosted event. \nWhat’s next for AI policy at the state-level? \nAs artificial intelligence drives innovation across sectors\, state governments are moving fast to regulate its development and deployment. From data privacy to algorithmic accountability\, new AI-related bills are emerging in nearly every statehouse — and tracking their implications is no small task. \nJoin us for a live conversation with Caleb Max\, President and CEO of the National Artificial Intelligence Association\, for an insider’s perspective on the most important AI legislation on the horizon. This session will explore the political\, legal\, and economic implications of these bills — and what government affairs professionals need to watch in 2026 and beyond. \nREGISTER HERE
URL:https://navaa.org/event/ai-legislation-to-watch-in-the-50-states/
CATEGORIES:Members Only Events
END:VEVENT
BEGIN:VEVENT
DTSTART;TZID=America/Chicago:20251125T120000
DTEND;TZID=America/Chicago:20251125T130000
DTSTAMP:20260423T195254
CREATED:20251118T161600Z
LAST-MODIFIED:20251204T201534Z
UID:5263-1764072000-1764075600@navaa.org
SUMMARY:Victim Services Funding: State Solutions Amid Federal VOCA Uncertainty
DESCRIPTION:Hosted by The Council of State Governments (CSG) Justice Center and CSG Midwest \nThe federal Victims of Crime Act (VOCA) is a vital source of funding for people and communities affected by violent crime. While states are receiving more VOCA funding in fiscal year 2025 than 2024\, questions remain about whether this funding is enough—and about the future of VOCA.   \nThis webinar will help state and local leaders understand how they can prepare for uncertainty and maintain victim services even if federal funding drops. \nParticipants will learn about: \n\nWhat upcoming legislation could mean for future VOCA funding\nHow VOCA funding is distributed and why it changes year to year\nNew non-federal funding sources—such as dedicated state funds\, court fees\, and partnerships—that states are testing to support victims and survivors of crime\n\nThis event is open to everyone but intended for state and local policymakers\, agency leaders\, victim service providers\, and community-based organizations that support victims and survivors of crime. \nPresenters: \n\nRobert Hamill\, Project Manager\, CSG Justice Center\nLorretta Sackey\, Project Manager\, CSG Justice Center\n\nREGISTER HERE \n  \n****This is not a NAVAA hosted event.
URL:https://navaa.org/event/victim-services-funding-state-solutions-amid-federal-voca-uncertainty/
CATEGORIES:Members Only Events,Public Events
END:VEVENT
END:VCALENDAR