BEGIN:VCALENDAR
VERSION:2.0
PRODID:-//NAVAA - ECPv6.15.20//NONSGML v1.0//EN
CALSCALE:GREGORIAN
METHOD:PUBLISH
X-WR-CALNAME:NAVAA
X-ORIGINAL-URL:https://navaa.org
X-WR-CALDESC:Events for NAVAA
REFRESH-INTERVAL;VALUE=DURATION:PT1H
X-Robots-Tag:noindex
X-PUBLISHED-TTL:PT1H
BEGIN:VTIMEZONE
TZID:America/Chicago
BEGIN:DAYLIGHT
TZOFFSETFROM:-0600
TZOFFSETTO:-0500
TZNAME:CDT
DTSTART:20250309T080000
END:DAYLIGHT
BEGIN:STANDARD
TZOFFSETFROM:-0500
TZOFFSETTO:-0600
TZNAME:CST
DTSTART:20251102T070000
END:STANDARD
BEGIN:DAYLIGHT
TZOFFSETFROM:-0600
TZOFFSETTO:-0500
TZNAME:CDT
DTSTART:20260308T080000
END:DAYLIGHT
BEGIN:STANDARD
TZOFFSETFROM:-0500
TZOFFSETTO:-0600
TZNAME:CST
DTSTART:20261101T070000
END:STANDARD
BEGIN:DAYLIGHT
TZOFFSETFROM:-0600
TZOFFSETTO:-0500
TZNAME:CDT
DTSTART:20270314T080000
END:DAYLIGHT
BEGIN:STANDARD
TZOFFSETFROM:-0500
TZOFFSETTO:-0600
TZNAME:CST
DTSTART:20271107T070000
END:STANDARD
END:VTIMEZONE
BEGIN:VEVENT
DTSTART;TZID=America/Chicago:20260303T120000
DTEND;TZID=America/Chicago:20260306T133000
DTSTAMP:20260423T131717
CREATED:20260130T212816Z
LAST-MODIFIED:20260220T171037Z
UID:5692-1772539200-1772803800@navaa.org
SUMMARY:Victim Assistance Response to Mass Violence Webinar Series: Webinar 4-Volunteer Management
DESCRIPTION:Please join us on Tuesday\, March 3\, 2026\, from 2‒3:30 p.m. ET\, for the fourth installment of the Office for Victims of Crime Training and Technical Assistance Center’s Victim Assistance Response to Mass Violence Webinar Series: Volunteer Management\, which will highlight the importance of victim service providers responding to incidents of mass violence and terrorism. The session focuses on: \n\ndescribing the process of coordinating the victim services response agencies and volunteers\,\nidentifying the needs of survivors\, families\, and responders in terms of the roles of victim services volunteers\,\nidentifying the training needs for victim services volunteers in varied roles in the field and behind the scenes\, and\nintegrating trauma-informed processes to prepare victim service providers to support victims.\n\nRegistration will open soon. Sign up for the OVC TTAC email listserv to receive registration notices
URL:https://navaa.org/event/victim-assistance-response-to-mass-violence-webinar-series-webinar-4-volunteer-management/
CATEGORIES:Members Only Events,Public Events
END:VEVENT
BEGIN:VEVENT
DTSTART;TZID=America/Chicago:20260303T123000
DTEND;TZID=America/Chicago:20260303T133000
DTSTAMP:20260423T131717
CREATED:20251022T202054Z
LAST-MODIFIED:20251022T204756Z
UID:5031-1772541000-1772544600@navaa.org
SUMMARY:NAVAA Member Debrief:  A Monthly Member Roundtable
DESCRIPTION: Join us for regular opportunities to share insights\, build relationships\, and support one another across our peer network. \nEvery 1st Tuesday from 1:30-2:30 pm ET \nJoin us for a monthly\, member-driven roundtable offering space for candid conversation and peer support. This informal meeting invites VOCA Assistance Administrators to share updates\, surface challenges\, and speak openly about what is happening in the field. Whether you’d like to raise an issue\, ask a question\, or simply listen in\, the NAVAA Member Debrief offers a valuable connection point for staying informed and supported. \nTo join the meeting\, click HERE. \n 
URL:https://navaa.org/event/navaa-member-debrief-a-monthly-member-roundtable-6/
CATEGORIES:Members Only Events
END:VEVENT
BEGIN:VEVENT
DTSTART;TZID=America/Chicago:20260317T123000
DTEND;TZID=America/Chicago:20260317T140000
DTSTAMP:20260423T131717
CREATED:20251022T201947Z
LAST-MODIFIED:20251022T204705Z
UID:5029-1773750600-1773756000@navaa.org
SUMMARY:NAVAA Community of Practice
DESCRIPTION:NAVAA Community of Practice \nEvery 3rd Tuesday from 1:30-3:00 pm ET \nNAVAA’s Community of Practice is a monthly collaborative session where VOCA Assistance Administrators will share tools\, strategies\, and real-world experiences. Each meeting features peer-led presentations and guided discussion\, focusing on practical implementation and lessons learned. This space supports ongoing professional development and advances our ability to serve victims through shared expertise. \nTo join the meeting\, click HERE.
URL:https://navaa.org/event/navaa-community-of-practice-6/
CATEGORIES:Members Only Events
END:VEVENT
BEGIN:VEVENT
DTSTART;TZID=America/Chicago:20260317T130000
DTEND;TZID=America/Chicago:20260317T143000
DTSTAMP:20260423T131717
CREATED:20260306T144723Z
LAST-MODIFIED:20260306T144723Z
UID:5837-1773752400-1773757800@navaa.org
SUMMARY:Victim Assistance Response to Mass Violence Webinar Series: Communications
DESCRIPTION:Please join us on Tuesday\, March 17\, 2026\, from 2‒3:30 p.m. ET\, for the fifth installment of the Office for Victims of Crime Training and Technical Assistance Center’s (OVC TTAC) Victim Assistance Response to Mass Violence Webinar Series: Communications\, which will highlight the importance of victim service providers responding to incidents of mass violence and terrorism. Please join us for the following session. \nWebinar 5: Communications \n2–3:30 p.m. ET on March 17\, 2026 \nFacilitated by: Cassidee Carlson and Krista Flannigan \nThe session focuses on communications during mass violence and terrorism incidents\, emphasizing: \n\nThe role of victim services in response and recovery efforts;\nThe importance of collaboration between victim services and other agencies; and\nCommon communication challenges victim service providers encounter throughout response and recovery.
URL:https://navaa.org/event/victim-assistance-response-to-mass-violence-webinar-series-communications/
CATEGORIES:Members Only Events
END:VEVENT
BEGIN:VEVENT
DTSTART;TZID=America/Chicago:20260318T130000
DTEND;TZID=America/Chicago:20260318T153000
DTSTAMP:20260423T131717
CREATED:20260306T205205Z
LAST-MODIFIED:20260306T205205Z
UID:5844-1773838800-1773847800@navaa.org
SUMMARY:Technology-Facilitated Intimate Partner Violence
DESCRIPTION:On March 18 at 2:00 p.m. ET\, the Office for Victims of Crime Training and Technical Assistance Center will present an online Expert Q&A discussion with Crystal Bennett and Cheryl Peace on “Technology-Facilitated Intimate Partner Violence.” \nThe emergence and evolution of technology enable youth and adults to connect\, research new topics\, build social networks\, and increase their communication skills. But although technology offers many positive opportunities\, abusers can also exploit it to cause harm. Perpetrators of intimate partner violence (IPV) may use technology as an additional method of manipulation\, coercion\, intimidation\, and abuse. \nFor more information or to register\, click HERE. \n*This is not a NAVAA-hosted event.  Please see the registration page for contact details.*
URL:https://navaa.org/event/technology-facilitated-intimate-partner-violence/
CATEGORIES:Members Only Events
END:VEVENT
BEGIN:VEVENT
DTSTART;TZID=America/Chicago:20260322T080000
DTEND;TZID=America/Chicago:20260325T170000
DTSTAMP:20260423T131717
CREATED:20251204T204034Z
LAST-MODIFIED:20251204T204034Z
UID:5368-1774166400-1774458000@navaa.org
SUMMARY:NGMA Annual Grants Training
DESCRIPTION:National Grants Management Association \nMarch 22-25\, 2026\, Washington\, D.C. \nAnnual Grants Training (AGT) is a three-day\, in-person event ideal for professionals involved in the management of federal grant awards. It is the largest grants management-focused training event in the nation. Event agenda includes keynote speakers\, plenary panels\, 50+ breakout sessions\, expo hall with NGMA corporate (CAPP) partners\, networking opportunities and more.  \nContact organizers for more information: NGMA 2026 AGT \n****This is not a NAVAA-hosted event. \n 
URL:https://navaa.org/event/ngma-annual-grants-training/
CATEGORIES:Members Only Events,Public Events
END:VEVENT
BEGIN:VEVENT
DTSTART;TZID=America/Chicago:20260326T090000
DTEND;TZID=America/Chicago:20260327T123000
DTSTAMP:20260423T131717
CREATED:20260318T143545Z
LAST-MODIFIED:20260318T143545Z
UID:5871-1774515600-1774614600@navaa.org
SUMMARY:Elder Abuse Multidisciplinary Team (MDT) Coordinator Training Registration
DESCRIPTION:MDT coordinators fill a critical role on elder abuse MDTs\, yet few educational resources exist to support their professional development. The Multidisciplinary Team Technical Assistance Center (MDT TAC) is offering a no-cost\, 2-day virtual training on three separate occasions specifically for Elder Abuse MDT Coordinators. In groups of approximately 10– 15 Coordinators\, fundamental Coordinator skill-building will be achieved through 10 educational modules that can be adapted to different needs and levels of experience.   \nTopics include: \n\nThe Role of the MDT Coordinator\nCreating a Strong Foundation\nUtilizing Best Practices to Serve Older Adults\nUnderstanding Confidentiality\nFacilitating Team Meetings\nBuilding a Culture of Collaboration\nEnhancing Team Engagement\nNavigating Team Dynamics\nProgram Evaluation\nBurnout and Self-Care\, and more\n\nThis is a two (2) day training and participants must register for both days. \n10:00am-1:30pm ET; March 26\, 2026 – Day 1 Registration; March 27\, 2026 – Day 2 Registration
URL:https://navaa.org/event/elder-abuse-multidisciplinary-team-mdt-coordinator-training-registration/
CATEGORIES:Members Only Events
END:VEVENT
END:VCALENDAR