BEGIN:VCALENDAR
VERSION:2.0
PRODID:-//NAVAA - ECPv6.15.20//NONSGML v1.0//EN
CALSCALE:GREGORIAN
METHOD:PUBLISH
X-ORIGINAL-URL:https://navaa.org
X-WR-CALDESC:Events for NAVAA
REFRESH-INTERVAL;VALUE=DURATION:PT1H
X-Robots-Tag:noindex
X-PUBLISHED-TTL:PT1H
BEGIN:VTIMEZONE
TZID:America/Chicago
BEGIN:DAYLIGHT
TZOFFSETFROM:-0600
TZOFFSETTO:-0500
TZNAME:CDT
DTSTART:20240310T080000
END:DAYLIGHT
BEGIN:STANDARD
TZOFFSETFROM:-0500
TZOFFSETTO:-0600
TZNAME:CST
DTSTART:20241103T070000
END:STANDARD
BEGIN:DAYLIGHT
TZOFFSETFROM:-0600
TZOFFSETTO:-0500
TZNAME:CDT
DTSTART:20250309T080000
END:DAYLIGHT
BEGIN:STANDARD
TZOFFSETFROM:-0500
TZOFFSETTO:-0600
TZNAME:CST
DTSTART:20251102T070000
END:STANDARD
BEGIN:DAYLIGHT
TZOFFSETFROM:-0600
TZOFFSETTO:-0500
TZNAME:CDT
DTSTART:20260308T080000
END:DAYLIGHT
BEGIN:STANDARD
TZOFFSETFROM:-0500
TZOFFSETTO:-0600
TZNAME:CST
DTSTART:20261101T070000
END:STANDARD
END:VTIMEZONE
BEGIN:VEVENT
DTSTART;TZID=America/Chicago:20250827T130000
DTEND;TZID=America/Chicago:20250827T150000
DTSTAMP:20260424T022946
CREATED:20250804T182817Z
LAST-MODIFIED:20250822T211723Z
UID:3609-1756299600-1756306800@navaa.org
SUMMARY:Vital Subjects: Unlock the Power of Peer Support: Creating a Sustainable Peer-to-Peer Wellness Program
DESCRIPTION:August 27\, 2025 – 1:00 pm – 3:00 pm CT \nAre you ready to create a strong and sustainable peer-to-peer wellness program that addresses vicarious trauma by developing a workplace that thrives on mutual support and empowerment? Join this webinar to learn about the essential tools and strategies that foster a wellness-oriented environment by creating a sustainable and impactful peer-to-peer wellness program. Participants will be able to \n\nUnderstand the crucial role of leadership in supporting wellness initiatives and a holistic approach to self-care.\nIdentify the essential competencies and skills required for peer support specialists to assist their peers effectively.\nDescribe how to ensure ethical practices\, set clear boundaries\, and incorporate self-care provisions for peer specialists.\n\nRegistration will open soon. Sign up for the OVC TTAC email list to receive registration notices. \n*This is not a NAVAA-hosted event.  Please see the registration page for contact details.*
URL:https://navaa.org/event/vital-subjects-unlock-the-power-of-peer-support-creating-a-sustainable-peer-to-peer-wellness-program/
CATEGORIES:Members Only Events,Public Events
END:VEVENT
END:VCALENDAR