BEGIN:VCALENDAR
VERSION:2.0
PRODID:-//NAVAA - ECPv6.15.20//NONSGML v1.0//EN
CALSCALE:GREGORIAN
METHOD:PUBLISH
X-WR-CALNAME:NAVAA
X-ORIGINAL-URL:https://navaa.org
X-WR-CALDESC:Events for NAVAA
REFRESH-INTERVAL;VALUE=DURATION:PT1H
X-Robots-Tag:noindex
X-PUBLISHED-TTL:PT1H
BEGIN:VTIMEZONE
TZID:America/Chicago
BEGIN:DAYLIGHT
TZOFFSETFROM:-0600
TZOFFSETTO:-0500
TZNAME:CDT
DTSTART:20250309T080000
END:DAYLIGHT
BEGIN:STANDARD
TZOFFSETFROM:-0500
TZOFFSETTO:-0600
TZNAME:CST
DTSTART:20251102T070000
END:STANDARD
BEGIN:DAYLIGHT
TZOFFSETFROM:-0600
TZOFFSETTO:-0500
TZNAME:CDT
DTSTART:20260308T080000
END:DAYLIGHT
BEGIN:STANDARD
TZOFFSETFROM:-0500
TZOFFSETTO:-0600
TZNAME:CST
DTSTART:20261101T070000
END:STANDARD
BEGIN:DAYLIGHT
TZOFFSETFROM:-0600
TZOFFSETTO:-0500
TZNAME:CDT
DTSTART:20270314T080000
END:DAYLIGHT
BEGIN:STANDARD
TZOFFSETFROM:-0500
TZOFFSETTO:-0600
TZNAME:CST
DTSTART:20271107T070000
END:STANDARD
END:VTIMEZONE
BEGIN:VEVENT
DTSTART;TZID=America/Chicago:20260128T130000
DTEND;TZID=America/Chicago:20260128T140000
DTSTAMP:20260423T164251
CREATED:20260107T152142Z
LAST-MODIFIED:20260107T152142Z
UID:5553-1769605200-1769608800@navaa.org
SUMMARY:National MDT Survey and Listening Sessions Report Out and Request for Feedback
DESCRIPTION:Join us on Wednesday\, January 28\, 2026\, from 2:00–3:00 p.m. eastern time for the Elder Justice Initiative webinar “National MDT Survey and Listening Sessions Report Out and Request for Feedback.” \nThis webinar will discuss the findings from the 2025 National Multidisciplinary Team (MDT) Listening Sessions and the 2025 National Elder Abuse MDT Needs Assessment Survey. Key takeaways from both reports will be presented\, and the audience will be engaged to provide feedback on the findings and refine and prioritize planned educational offerings and materials. In addition to highlighting MDT needs\, there will be a discussion about promising practices and novel ideas that teams currently employ to meet their clients’ unique needs. \nFor more information or to register\, click HERE. \n*This is not a NAVAA-based event.  Please see the registration page for contact details*
URL:https://navaa.org/event/national-mdt-survey-and-listening-sessions-report-out-and-request-for-feedback/
CATEGORIES:Members Only Events,Public Events
END:VEVENT
END:VCALENDAR