BEGIN:VCALENDAR
VERSION:2.0
PRODID:-//NAVAA - ECPv6.15.20//NONSGML v1.0//EN
CALSCALE:GREGORIAN
METHOD:PUBLISH
X-WR-CALNAME:NAVAA
X-ORIGINAL-URL:https://navaa.org
X-WR-CALDESC:Events for NAVAA
REFRESH-INTERVAL;VALUE=DURATION:PT1H
X-Robots-Tag:noindex
X-PUBLISHED-TTL:PT1H
BEGIN:VTIMEZONE
TZID:America/Chicago
BEGIN:DAYLIGHT
TZOFFSETFROM:-0600
TZOFFSETTO:-0500
TZNAME:CDT
DTSTART:20250309T080000
END:DAYLIGHT
BEGIN:STANDARD
TZOFFSETFROM:-0500
TZOFFSETTO:-0600
TZNAME:CST
DTSTART:20251102T070000
END:STANDARD
BEGIN:DAYLIGHT
TZOFFSETFROM:-0600
TZOFFSETTO:-0500
TZNAME:CDT
DTSTART:20260308T080000
END:DAYLIGHT
BEGIN:STANDARD
TZOFFSETFROM:-0500
TZOFFSETTO:-0600
TZNAME:CST
DTSTART:20261101T070000
END:STANDARD
BEGIN:DAYLIGHT
TZOFFSETFROM:-0600
TZOFFSETTO:-0500
TZNAME:CDT
DTSTART:20270314T080000
END:DAYLIGHT
BEGIN:STANDARD
TZOFFSETFROM:-0500
TZOFFSETTO:-0600
TZNAME:CST
DTSTART:20271107T070000
END:STANDARD
END:VTIMEZONE
BEGIN:VEVENT
DTSTART;TZID=America/Chicago:20260224T140000
DTEND;TZID=America/Chicago:20260224T153000
DTSTAMP:20260423T150548
CREATED:20260112T160242Z
LAST-MODIFIED:20260112T160242Z
UID:5589-1771941600-1771947000@navaa.org
SUMMARY:Staying in Compliance: Meeting Federal Time-Keeping Requirements (for Sub/Direct Recipients)
DESCRIPTION:During this virtual training\, participants will gain an understanding of federal time-keeping requirements\, including those outlined in Title 2 of the Code of Federal Regulations\, Part 200 (2 CFR 200)\, and the U.S. DOJ Grants Financial Guide\, which applies to all recipients of DOJ funding. Additionally\, attendees will learn about common & most recent audit findings\, gain an understanding of best practices related to implementation\, and learn how to ensure compliance with timekeeping requirements. \nFor additional and registration registration\, click HERE. \n*This is not a NAVAA-hosted event.  Please see the registration page for contact details*
URL:https://navaa.org/event/staying-in-compliance-meeting-federal-time-keeping-requirements-for-sub-direct-recipients/
CATEGORIES:Members Only Events,Public Events
END:VEVENT
END:VCALENDAR