BEGIN:VCALENDAR
VERSION:2.0
PRODID:-//NAVAA - ECPv6.15.20//NONSGML v1.0//EN
CALSCALE:GREGORIAN
METHOD:PUBLISH
X-WR-CALNAME:NAVAA
X-ORIGINAL-URL:https://navaa.org
X-WR-CALDESC:Events for NAVAA
REFRESH-INTERVAL;VALUE=DURATION:PT1H
X-Robots-Tag:noindex
X-PUBLISHED-TTL:PT1H
BEGIN:VTIMEZONE
TZID:America/Chicago
BEGIN:DAYLIGHT
TZOFFSETFROM:-0600
TZOFFSETTO:-0500
TZNAME:CDT
DTSTART:20240310T080000
END:DAYLIGHT
BEGIN:STANDARD
TZOFFSETFROM:-0500
TZOFFSETTO:-0600
TZNAME:CST
DTSTART:20241103T070000
END:STANDARD
BEGIN:DAYLIGHT
TZOFFSETFROM:-0600
TZOFFSETTO:-0500
TZNAME:CDT
DTSTART:20250309T080000
END:DAYLIGHT
BEGIN:STANDARD
TZOFFSETFROM:-0500
TZOFFSETTO:-0600
TZNAME:CST
DTSTART:20251102T070000
END:STANDARD
BEGIN:DAYLIGHT
TZOFFSETFROM:-0600
TZOFFSETTO:-0500
TZNAME:CDT
DTSTART:20260308T080000
END:DAYLIGHT
BEGIN:STANDARD
TZOFFSETFROM:-0500
TZOFFSETTO:-0600
TZNAME:CST
DTSTART:20261101T070000
END:STANDARD
END:VTIMEZONE
BEGIN:VEVENT
DTSTART;TZID=America/Chicago:20251118T140000
DTEND;TZID=America/Chicago:20251118T153000
DTSTAMP:20260423T195908
CREATED:20251117T224153Z
LAST-MODIFIED:20251118T043549Z
UID:5219-1763474400-1763479800@navaa.org
SUMMARY:Staying in Compliance: Meeting Federal Time-Keeping Requirements
DESCRIPTION:During this virtual training workshop\, participants will gain an understanding of federal time-keeping requirements\, including those outlined in Title 2 of the Code of Federal Regulations\, Part 200 (2 CFR 200)\, and the U.S. Department of Justice Grants Financial Guide\, which applies to all recipients of federal funding from DOJ. Additionally\, participants will gain an understanding of best practices related to implementing timesheet requirements and monitoring subrecipients for compliance. \nRegister Here \n***This is not a NAVAA hosted event. Please contact Kellie Rabenhorst at NCJA for more information: krabenhorst@ncja.org
URL:https://navaa.org/event/staying-in-compliance-meeting-federal-time-keeping-requirements/
CATEGORIES:Members Only Events,Public Events
END:VEVENT
BEGIN:VEVENT
DTSTART;TZID=America/Chicago:20251125T120000
DTEND;TZID=America/Chicago:20251125T130000
DTSTAMP:20260423T195908
CREATED:20251118T161600Z
LAST-MODIFIED:20251204T201534Z
UID:5263-1764072000-1764075600@navaa.org
SUMMARY:Victim Services Funding: State Solutions Amid Federal VOCA Uncertainty
DESCRIPTION:Hosted by The Council of State Governments (CSG) Justice Center and CSG Midwest \nThe federal Victims of Crime Act (VOCA) is a vital source of funding for people and communities affected by violent crime. While states are receiving more VOCA funding in fiscal year 2025 than 2024\, questions remain about whether this funding is enough—and about the future of VOCA.   \nThis webinar will help state and local leaders understand how they can prepare for uncertainty and maintain victim services even if federal funding drops. \nParticipants will learn about: \n\nWhat upcoming legislation could mean for future VOCA funding\nHow VOCA funding is distributed and why it changes year to year\nNew non-federal funding sources—such as dedicated state funds\, court fees\, and partnerships—that states are testing to support victims and survivors of crime\n\nThis event is open to everyone but intended for state and local policymakers\, agency leaders\, victim service providers\, and community-based organizations that support victims and survivors of crime. \nPresenters: \n\nRobert Hamill\, Project Manager\, CSG Justice Center\nLorretta Sackey\, Project Manager\, CSG Justice Center\n\nREGISTER HERE \n  \n****This is not a NAVAA hosted event.
URL:https://navaa.org/event/victim-services-funding-state-solutions-amid-federal-voca-uncertainty/
CATEGORIES:Members Only Events,Public Events
END:VEVENT
END:VCALENDAR