BEGIN:VCALENDAR
VERSION:2.0
PRODID:-//NAVAA - ECPv6.15.20//NONSGML v1.0//EN
CALSCALE:GREGORIAN
METHOD:PUBLISH
X-WR-CALNAME:NAVAA
X-ORIGINAL-URL:https://navaa.org
X-WR-CALDESC:Events for NAVAA
REFRESH-INTERVAL;VALUE=DURATION:PT1H
X-Robots-Tag:noindex
X-PUBLISHED-TTL:PT1H
BEGIN:VTIMEZONE
TZID:America/Chicago
BEGIN:DAYLIGHT
TZOFFSETFROM:-0600
TZOFFSETTO:-0500
TZNAME:CDT
DTSTART:20250309T080000
END:DAYLIGHT
BEGIN:STANDARD
TZOFFSETFROM:-0500
TZOFFSETTO:-0600
TZNAME:CST
DTSTART:20251102T070000
END:STANDARD
BEGIN:DAYLIGHT
TZOFFSETFROM:-0600
TZOFFSETTO:-0500
TZNAME:CDT
DTSTART:20260308T080000
END:DAYLIGHT
BEGIN:STANDARD
TZOFFSETFROM:-0500
TZOFFSETTO:-0600
TZNAME:CST
DTSTART:20261101T070000
END:STANDARD
BEGIN:DAYLIGHT
TZOFFSETFROM:-0600
TZOFFSETTO:-0500
TZNAME:CDT
DTSTART:20270314T080000
END:DAYLIGHT
BEGIN:STANDARD
TZOFFSETFROM:-0500
TZOFFSETTO:-0600
TZNAME:CST
DTSTART:20271107T070000
END:STANDARD
END:VTIMEZONE
BEGIN:VEVENT
DTSTART;TZID=America/Chicago:20260114T110000
DTEND;TZID=America/Chicago:20260114T123000
DTSTAMP:20260423T182425
CREATED:20260106T184205Z
LAST-MODIFIED:20260112T161130Z
UID:5536-1768388400-1768393800@navaa.org
SUMMARY:RSVP for SAVE VOCA Advocacy Day!
DESCRIPTION:Join us on Wednesday\, January 14\, 2026\, for SAVE VOCA Advocacy Day on Capitol Hill as we advocate for the passage of H.R. 909: The Crime Victim Fund Stabilization Act of 2025—a critical step toward securing stable\, long-term funding for services survivors rely on. \nEvent Details \nDate: Wednesday\, January 14\, 2026\nTime: 12:00 PM\nLocation: Rayburn House Office Building\, Room 2075\, Washington\, D.C. \nThis Advocacy Day\, hosted under the Save VOCA banner\, will provide an opportunity to meet with lawmakers\, share survivor experiences\, and demonstrate broad support for stabilizing the Crime Victim Fund. \nPlease indicate whether you plan to attend in person or virtually. Additional details regarding the agenda\, logistics\, and participation options will be shared with registered participants as the event approaches. \nThank you for standing with us in support of survivors and victim-service programs. \nHosted by Restorative Pathways \nFor more information\, click HERE. \n*This is not a NAVAA-hosted event.  Please see the registration page for contact details*
URL:https://navaa.org/event/rsvp-for-save-voca-advocacy-day/
CATEGORIES:Members Only Events,Public Events
END:VEVENT
BEGIN:VEVENT
DTSTART;TZID=America/Chicago:20260114T130000
DTEND;TZID=America/Chicago:20260114T143000
DTSTAMP:20260423T182425
CREATED:20251226T212929Z
LAST-MODIFIED:20260112T161516Z
UID:5514-1768395600-1768401000@navaa.org
SUMMARY:Expert Q&A: Crisis Communications Planning and the Ethical Use of Social Media for Victim Service Providers
DESCRIPTION:Victim service providers often feel ill equipped to effectively manage crisis communications and unleash the power of social media\, while also maintaining the privacy and dignity of victims. Do you have questions about how to communicate effectively during a crisis and develop crisis plans? Do you want to learn how to leverage social media ethically to both advance your agency’s mission and support and advocate for victims? Then join us for this interactive Expert Q&A webinar! This webinar is ideal for professionals working in victim services\, including social workers\, counselors\, law enforcement officers\, and communication specialists\, as well as anyone involved in crisis management and public relations within victim service organizations. \nFor more information\, click HERE. \n*This is not a NAVAA-hosted event.  Please see the registration page for contact details*
URL:https://navaa.org/event/expert-qa-crisis-communications-planning-and-the-ethical-use-of-social-media-for-victim-service-providers/
CATEGORIES:Members Only Events,Public Events
END:VEVENT
END:VCALENDAR