BEGIN:VCALENDAR
VERSION:2.0
PRODID:-//NAVAA - ECPv6.15.20//NONSGML v1.0//EN
CALSCALE:GREGORIAN
METHOD:PUBLISH
X-WR-CALNAME:NAVAA
X-ORIGINAL-URL:https://navaa.org
X-WR-CALDESC:Events for NAVAA
REFRESH-INTERVAL;VALUE=DURATION:PT1H
X-Robots-Tag:noindex
X-PUBLISHED-TTL:PT1H
BEGIN:VTIMEZONE
TZID:America/Chicago
BEGIN:DAYLIGHT
TZOFFSETFROM:-0600
TZOFFSETTO:-0500
TZNAME:CDT
DTSTART:20250309T080000
END:DAYLIGHT
BEGIN:STANDARD
TZOFFSETFROM:-0500
TZOFFSETTO:-0600
TZNAME:CST
DTSTART:20251102T070000
END:STANDARD
BEGIN:DAYLIGHT
TZOFFSETFROM:-0600
TZOFFSETTO:-0500
TZNAME:CDT
DTSTART:20260308T080000
END:DAYLIGHT
BEGIN:STANDARD
TZOFFSETFROM:-0500
TZOFFSETTO:-0600
TZNAME:CST
DTSTART:20261101T070000
END:STANDARD
BEGIN:DAYLIGHT
TZOFFSETFROM:-0600
TZOFFSETTO:-0500
TZNAME:CDT
DTSTART:20270314T080000
END:DAYLIGHT
BEGIN:STANDARD
TZOFFSETFROM:-0500
TZOFFSETTO:-0600
TZNAME:CST
DTSTART:20271107T070000
END:STANDARD
END:VTIMEZONE
BEGIN:VEVENT
DTSTART;TZID=America/Chicago:20260211T120000
DTEND;TZID=America/Chicago:20260211T130000
DTSTAMP:20260423T164219
CREATED:20251210T180255Z
LAST-MODIFIED:20251210T180255Z
UID:5379-1770811200-1770814800@navaa.org
SUMMARY:Webinar\, Innovation spotlight: Promising IPV Interventions Across Contexts
DESCRIPTION:Join the Center for Victim Research (CVR) for this informative session for researchers and service providers.  \nPrevention is possible. This roundtable spotlights programs that have demonstrated success in preventing intimate partner violence and promoting healing—from culturally grounded practices to community-based innovations. \nThe webinar is part of a series hosted by The National Health Initiative on Violence and Abuse at FUTURES\, the Johns Hopkins Center for Global Women’s Health and Gender Equity\, and the Bloomberg American Health Initiative at the Johns Hopkins Bloomberg School of Public Health. The series brings together leading experts to share cutting-edge research and innovative solutions. Each session dives into urgent issues shaping lives and communities—including pediatric and adolescent health\, gun violence\, healthcare systems change\, care and safety during emergencies\, maternal mortality\, reproductive coercion\, and more. \nREGISTER HERE \n****This is a not a NAVAA-hosted event. Please contact CVR for more information.
URL:https://navaa.org/event/webinar-innovation-spotlight-promising-ipv-interventions-across-contexts/
CATEGORIES:Members Only Events,Public Events
END:VEVENT
END:VCALENDAR