BEGIN:VCALENDAR
VERSION:2.0
PRODID:-//NAVAA - ECPv6.15.20//NONSGML v1.0//EN
CALSCALE:GREGORIAN
METHOD:PUBLISH
X-ORIGINAL-URL:https://navaa.org
X-WR-CALDESC:Events for NAVAA
REFRESH-INTERVAL;VALUE=DURATION:PT1H
X-Robots-Tag:noindex
X-PUBLISHED-TTL:PT1H
BEGIN:VTIMEZONE
TZID:America/Chicago
BEGIN:DAYLIGHT
TZOFFSETFROM:-0600
TZOFFSETTO:-0500
TZNAME:CDT
DTSTART:20250309T080000
END:DAYLIGHT
BEGIN:STANDARD
TZOFFSETFROM:-0500
TZOFFSETTO:-0600
TZNAME:CST
DTSTART:20251102T070000
END:STANDARD
BEGIN:DAYLIGHT
TZOFFSETFROM:-0600
TZOFFSETTO:-0500
TZNAME:CDT
DTSTART:20260308T080000
END:DAYLIGHT
BEGIN:STANDARD
TZOFFSETFROM:-0500
TZOFFSETTO:-0600
TZNAME:CST
DTSTART:20261101T070000
END:STANDARD
BEGIN:DAYLIGHT
TZOFFSETFROM:-0600
TZOFFSETTO:-0500
TZNAME:CDT
DTSTART:20270314T080000
END:DAYLIGHT
BEGIN:STANDARD
TZOFFSETFROM:-0500
TZOFFSETTO:-0600
TZNAME:CST
DTSTART:20271107T070000
END:STANDARD
END:VTIMEZONE
BEGIN:VEVENT
DTSTART;TZID=America/Chicago:20260226T120000
DTEND;TZID=America/Chicago:20260226T130000
DTSTAMP:20260423T150729
CREATED:20251210T180625Z
LAST-MODIFIED:20251210T180625Z
UID:5381-1772107200-1772110800@navaa.org
SUMMARY:Webinar\, Built on Trust: Community Partnerships for Firearm Violence Prevention Research
DESCRIPTION:February 26\, 2026 @ 1:00 pm – 2:00 pm\n\n\n\nThe Kaiser Permanente Center for Gun Violence Research and Education invites you to a webinar series designed to build the capacity\, confidence and visibility of researchers and practitioners working to prevent firearm-related violence. \nThis webinar will offer practical guidance on addressing past research harms and building durable\, trust-based partnerships with communities to support meaningful firearm violence prevention research. \nREGISTER HERE \n****This is not a NAVAA-hosted event. Please contact the Kaiser Permanente Center for more information.
URL:https://navaa.org/event/webinar-built-on-trust-community-partnerships-for-firearm-violence-prevention-research/
CATEGORIES:Members Only Events,Public Events
END:VEVENT
BEGIN:VEVENT
DTSTART;TZID=America/Chicago:20260226T140000
DTEND;TZID=America/Chicago:20260226T153000
DTSTAMP:20260423T150729
CREATED:20260128T155207Z
LAST-MODIFIED:20260128T155207Z
UID:5669-1772114400-1772119800@navaa.org
SUMMARY:Virtual National Town Halls on Mass Violence
DESCRIPTION:As the National Mass Violence Center begins the new year\, it is important that we continue to consider our commitments with fresh eyes. First\, why is the commitment to being survivor-centered and survivor-driven so foundational to the work? How can partnerships in mass violence preparation and response strengthen community capacity and resilience? What types of free resources are available from the NMVC\, and how can they be accessed? For answers to these three important questions\, please join the NMVC’s 16th National Town Hall. \nFor registration information\, click HERE. \n*This is not a NAVAA-hosted event.  Please see the registration page for contact details.*
URL:https://navaa.org/event/virtual-national-town-halls-on-mass-violence-2/
CATEGORIES:Members Only Events,Public Events
END:VEVENT
END:VCALENDAR