BEGIN:VCALENDAR
VERSION:2.0
PRODID:-//NAVAA - ECPv6.15.20//NONSGML v1.0//EN
CALSCALE:GREGORIAN
METHOD:PUBLISH
X-ORIGINAL-URL:https://navaa.org
X-WR-CALDESC:Events for NAVAA
REFRESH-INTERVAL;VALUE=DURATION:PT1H
X-Robots-Tag:noindex
X-PUBLISHED-TTL:PT1H
BEGIN:VTIMEZONE
TZID:America/Chicago
BEGIN:DAYLIGHT
TZOFFSETFROM:-0600
TZOFFSETTO:-0500
TZNAME:CDT
DTSTART:20250309T080000
END:DAYLIGHT
BEGIN:STANDARD
TZOFFSETFROM:-0500
TZOFFSETTO:-0600
TZNAME:CST
DTSTART:20251102T070000
END:STANDARD
BEGIN:DAYLIGHT
TZOFFSETFROM:-0600
TZOFFSETTO:-0500
TZNAME:CDT
DTSTART:20260308T080000
END:DAYLIGHT
BEGIN:STANDARD
TZOFFSETFROM:-0500
TZOFFSETTO:-0600
TZNAME:CST
DTSTART:20261101T070000
END:STANDARD
BEGIN:DAYLIGHT
TZOFFSETFROM:-0600
TZOFFSETTO:-0500
TZNAME:CDT
DTSTART:20270314T080000
END:DAYLIGHT
BEGIN:STANDARD
TZOFFSETFROM:-0500
TZOFFSETTO:-0600
TZNAME:CST
DTSTART:20271107T070000
END:STANDARD
END:VTIMEZONE
BEGIN:VEVENT
DTSTART;TZID=America/Chicago:20260227T140000
DTEND;TZID=America/Chicago:20260227T153000
DTSTAMP:20260424T025746
CREATED:20260220T165947Z
LAST-MODIFIED:20260220T170111Z
UID:5772-1772200800-1772206200@navaa.org
SUMMARY:Registration is now open for the upcoming Elder Justice Initiative webinars
DESCRIPTION:MDT Fundamentals and Lessons Learned  \nFebruary 27 from 3:00–4:30 p.m. ET \nThis session will focus on what is needed to create a successful multidisciplinary team (MDT) for elder abuse case reviews\, including building a strong foundation and overcoming common challenges. \nThis webinar will feature teams funded by the Office for Victims of Crime and developed through the National MDT Technical Assistance Center\, and review the Center’s evaluation of team needs at various stages. It will also include a panel of seasoned MDT coordinators who can speak from direct experience about the lessons they learned as they planned and built their teams. \nFor registration information\, click HERE. \n*This is not a NAVAA-hosted event.  Please see the registration page for contact details.*
URL:https://navaa.org/event/registration-is-now-open-for-the-upcoming-elder-justice-initiative-webinars/
CATEGORIES:Members Only Events,Public Events
END:VEVENT
BEGIN:VEVENT
DTSTART;TZID=America/Chicago:20260303T120000
DTEND;TZID=America/Chicago:20260306T133000
DTSTAMP:20260424T025746
CREATED:20260130T212816Z
LAST-MODIFIED:20260220T171037Z
UID:5692-1772539200-1772803800@navaa.org
SUMMARY:Victim Assistance Response to Mass Violence Webinar Series: Webinar 4-Volunteer Management
DESCRIPTION:Please join us on Tuesday\, March 3\, 2026\, from 2‒3:30 p.m. ET\, for the fourth installment of the Office for Victims of Crime Training and Technical Assistance Center’s Victim Assistance Response to Mass Violence Webinar Series: Volunteer Management\, which will highlight the importance of victim service providers responding to incidents of mass violence and terrorism. The session focuses on: \n\ndescribing the process of coordinating the victim services response agencies and volunteers\,\nidentifying the needs of survivors\, families\, and responders in terms of the roles of victim services volunteers\,\nidentifying the training needs for victim services volunteers in varied roles in the field and behind the scenes\, and\nintegrating trauma-informed processes to prepare victim service providers to support victims.\n\nRegistration will open soon. Sign up for the OVC TTAC email listserv to receive registration notices
URL:https://navaa.org/event/victim-assistance-response-to-mass-violence-webinar-series-webinar-4-volunteer-management/
CATEGORIES:Members Only Events,Public Events
END:VEVENT
BEGIN:VEVENT
DTSTART;TZID=America/Chicago:20260322T080000
DTEND;TZID=America/Chicago:20260325T170000
DTSTAMP:20260424T025746
CREATED:20251204T204034Z
LAST-MODIFIED:20251204T204034Z
UID:5368-1774166400-1774458000@navaa.org
SUMMARY:NGMA Annual Grants Training
DESCRIPTION:National Grants Management Association \nMarch 22-25\, 2026\, Washington\, D.C. \nAnnual Grants Training (AGT) is a three-day\, in-person event ideal for professionals involved in the management of federal grant awards. It is the largest grants management-focused training event in the nation. Event agenda includes keynote speakers\, plenary panels\, 50+ breakout sessions\, expo hall with NGMA corporate (CAPP) partners\, networking opportunities and more.  \nContact organizers for more information: NGMA 2026 AGT \n****This is not a NAVAA-hosted event. \n 
URL:https://navaa.org/event/ngma-annual-grants-training/
CATEGORIES:Members Only Events,Public Events
END:VEVENT
BEGIN:VEVENT
DTSTART;TZID=America/Chicago:20260407T080000
DTEND;TZID=America/Chicago:20260409T170000
DTSTAMP:20260424T025746
CREATED:20251204T192046Z
LAST-MODIFIED:20251204T192046Z
UID:5360-1775548800-1775754000@navaa.org
SUMMARY:Empowering Change: Innovative Response Strategies for Sexual Assault and Domestic Violence
DESCRIPTION:End Violence Against Women International Annual Conference \nApril 7-9\, 2026 – New Orleans\, Louisiana \nJoin thousands of professionals\, including law enforcement\, prosecutors\, advocates\, health care providers\, judges\, faith leaders\, educators\, researchers\, and others for a powerful 3-day conference dedicated to advancing innovative response strategies for sexual assault and domestic violence. Through cutting-edge workshops\, inspiring keynotes\, and cross-disciplinary collaboration\, we’ll explore bold solutions\, elevate survivor-centered practices\, and work together to drive real\, lasting change. \n****This is not a NAVAA-hosted event. \nVisit conference and registration page for more information: EVAWI26 \n 
URL:https://navaa.org/event/empowering-change-innovative-response-strategies-for-sexual-assault-and-domestic-violence/
CATEGORIES:Members Only Events,Public Events
END:VEVENT
BEGIN:VEVENT
DTSTART;TZID=America/Chicago:20260416T133000
DTEND;TZID=America/Chicago:20260416T150000
DTSTAMP:20260424T025746
CREATED:20260414T203749Z
LAST-MODIFIED:20260414T203749Z
UID:5931-1776346200-1776351600@navaa.org
SUMMARY:Working in Solidarity to Serve Immigrant Survivors: AIS Town Hall
DESCRIPTION:AIS Town Hall \nWorking in Solidarity to Serve Immigrant Survivors:\nPolicy Updates and Best Practices\nApril 16\, 2026\, 3:30–5:00 pm ET.\nImmigrant survivors of domestic violence\, sexual assault\, human trafficking\, and other crimes\, and the advocates who support them\, continue to face rapidly shifting challenges. Since our last Town Hall\, the policy and practice landscape continues to evolve\, particularly related to access to survivor-based immigration benefits\, safety net supports\, and how immigration enforcement has impacted access to services and justice for immigrant survivors. \nAt our upcoming session next Thursday\, we’ll provide timely updates on these developments and will feature a case study based upon AIS Co-Chair organizations’ experience serving survivors. Our team of policy analysts and experts will share insights\, emerging best practices to help advocates and organizations navigate this changing landscape and continue delivering survivor-centered support. \nThis webinar may be helpful to many\, including advocates and professionals providing direct services to immigrant survivors of domestic violence\, sexual assault\, human trafficking\, and other crimes\, as well as those in organizational or coalition leadership roles tasked with navigating the shifting landscape of federal funding for survivor services and support. \nTo register\, click HERE. \n*This is not a NAVAA-hosted event.  Please see the registration page for contact details* \n 
URL:https://navaa.org/event/working-in-solidarity-to-serve-immigrant-survivors-ais-town-hall/
CATEGORIES:Members Only Events,Public Events
END:VEVENT
BEGIN:VEVENT
DTSTART;TZID=America/Chicago:20260422T130000
DTEND;TZID=America/Chicago:20260422T143000
DTSTAMP:20260424T025746
CREATED:20260414T163551Z
LAST-MODIFIED:20260414T163551Z
UID:5929-1776862800-1776868200@navaa.org
SUMMARY:Vital Subjects: The Intersections of Animal Abuse\, Interpersonal Violence\, and Child Abuse
DESCRIPTION:This Vital Subjects webinar is designed to educate participants about the unique challenges faced by victims who have pets; the correlation between animal abuse\, interpersonal violence\, and child abuse; and the importance of providing safe havens for both humans and their pets. \nThe webinar will highlight the critical role that pet shelters\, such as Noah’s Animal House (a 2019 CNN Top Ten Hero)\, play in supporting survivors of interpersonal violence. This training is ideal for professionals working in domestic violence shelters\, animal welfare organizations\, child advocacy centers\, social services\, and law enforcement. \nParticipants will be able to: \n\nExplain the correlation between animal abuse and interpersonal violence\, and how it impacts both human and animal victims.\nDescribe at least two best practices for integrating pet-friendly policies and facilities into domestic violence shelters to ensure the safety and well-being of both survivors and their pets.\n\nThe webinar will be held April 22\, 2026 at 2:00pm ET/1:00 pm CT. For registration and additional information\, please click HERE. \n*This is not a NAVAA-hosted event.  Please see the registration page for contact details.*
URL:https://navaa.org/event/vital-subjects-the-intersections-of-animal-abuse-interpersonal-violence-and-child-abuse-2/
CATEGORIES:Members Only Events,Public Events
END:VEVENT
BEGIN:VEVENT
DTSTART;VALUE=DATE:20260512
DTEND;VALUE=DATE:20260515
DTSTAMP:20260424T025746
CREATED:20260112T160703Z
LAST-MODIFIED:20260112T160703Z
UID:5591-1778544000-1778803199@navaa.org
SUMMARY:Save the Date! Forum on Criminal Justice (2026)
DESCRIPTION:Please Save the Date! The 2026 Forum on Criminal Justice will take place virtually over three days-May 12\, 13 and 14 . NCJA members enjoy special discounted registration rates. Registration will open very soon! Please mark your calendar and plan to join your colleagues at this exciting and unique conference! \n*This is not a NAVAA-hosted event.  Please see the registration page for contact details.*
URL:https://navaa.org/event/save-the-date-forum-on-criminal-justice-2026/
CATEGORIES:Members Only Events,Public Events
END:VEVENT
BEGIN:VEVENT
DTSTART;TZID=America/Chicago:20260721T080000
DTEND;TZID=America/Chicago:20260723T170000
DTSTAMP:20260424T025746
CREATED:20260128T155810Z
LAST-MODIFIED:20260128T155810Z
UID:5671-1784620800-1784826000@navaa.org
SUMMARY:Registration for NOVA's 52nd Annual Training Event is NOW OPEN!
DESCRIPTION:NOVA’s 52 Annual Training Event – Why We Advocate: Stronger Together\nThis year’s theme\, Stronger Together\, speaks to the importance of coming together to create a future where support and justice go hand in hand. Victim advocates\, crisis responders and allied professionals stand stronger together\, the same way NOVA stood with the Las Vegas community following the Route 91 tragedy. NOVA’s Annual Training Event is where we learn\, connect\, and reaffirm our shared commitment to justice and healing. \nFore more information\, click HERE. \n*This is not a NAVAA-based event.  Please see the registration page for contact details.*
URL:https://navaa.org/event/registration-for-novas-52nd-annual-training-event-is-now-open/
CATEGORIES:Members Only Events,Public Events
END:VEVENT
END:VCALENDAR