BEGIN:VCALENDAR
VERSION:2.0
PRODID:-//NAVAA - ECPv6.15.20//NONSGML v1.0//EN
CALSCALE:GREGORIAN
METHOD:PUBLISH
X-WR-CALNAME:NAVAA
X-ORIGINAL-URL:https://navaa.org
X-WR-CALDESC:Events for NAVAA
REFRESH-INTERVAL;VALUE=DURATION:PT1H
X-Robots-Tag:noindex
X-PUBLISHED-TTL:PT1H
BEGIN:VTIMEZONE
TZID:America/Chicago
BEGIN:DAYLIGHT
TZOFFSETFROM:-0600
TZOFFSETTO:-0500
TZNAME:CDT
DTSTART:20230312T080000
END:DAYLIGHT
BEGIN:STANDARD
TZOFFSETFROM:-0500
TZOFFSETTO:-0600
TZNAME:CST
DTSTART:20231105T070000
END:STANDARD
BEGIN:DAYLIGHT
TZOFFSETFROM:-0600
TZOFFSETTO:-0500
TZNAME:CDT
DTSTART:20240310T080000
END:DAYLIGHT
BEGIN:STANDARD
TZOFFSETFROM:-0500
TZOFFSETTO:-0600
TZNAME:CST
DTSTART:20241103T070000
END:STANDARD
BEGIN:DAYLIGHT
TZOFFSETFROM:-0600
TZOFFSETTO:-0500
TZNAME:CDT
DTSTART:20250309T080000
END:DAYLIGHT
BEGIN:STANDARD
TZOFFSETFROM:-0500
TZOFFSETTO:-0600
TZNAME:CST
DTSTART:20251102T070000
END:STANDARD
END:VTIMEZONE
BEGIN:VEVENT
DTSTART;TZID=America/Chicago:20240821T140000
DTEND;TZID=America/Chicago:20240821T153000
DTSTAMP:20260425T064918
CREATED:20240702T151802Z
LAST-MODIFIED:20240702T164723Z
UID:2777-1724248800-1724254200@navaa.org
SUMMARY:OVC VOCA Center: Wellness Workshop
DESCRIPTION:Understanding Your Personality and How Stress Affects You Differently \nhttps://ncja.elevate.commpartners.com/p/Wellness-Workshop-August-2024
URL:https://navaa.org/event/ovc-voca-center-wellness-workshop/
END:VEVENT
BEGIN:VEVENT
DTSTART;TZID=America/Chicago:20240814T130000
DTEND;TZID=America/Chicago:20240814T140000
DTSTAMP:20260425T064918
CREATED:20240729T183152Z
LAST-MODIFIED:20240729T183152Z
UID:2802-1723640400-1723644000@navaa.org
SUMMARY:Online Expert Q&A: Providing Trauma-Informed Supervision
DESCRIPTION:On August 14 at 2:00 p.m. ET\, the Office for Victims of Crime Training and Technical Assistance Center will present an online Expert Q&A discussion with Aubrey Lloyd and Victoria Shelton on “Providing Trauma-Informed Supervision.” \nTrauma-informed supervision refers to a supervisory approach that recognizes and addresses the impact of trauma on individuals within an organizational setting. This type of supervision is grounded in an understanding of trauma and its effects on individuals’ thoughts\, emotions\, behaviors\, and relationships. Essentially\, it aims to create a supportive environment for those working with trauma survivors\, acknowledging the potential impact of their work on their own well-being and providing opportunities for learning and self-care. What are the challenges and benefits to providing trauma-informed supervision? \nRegistration: Webinar Registration – Zoom (zoomgov.com)
URL:https://navaa.org/event/online-expert-qa-providing-trauma-informed-supervision/
END:VEVENT
BEGIN:VEVENT
DTSTART;TZID=America/Chicago:20240814T080000
DTEND;TZID=America/Chicago:20240816T170000
DTSTAMP:20260425T064918
CREATED:20240702T031800Z
LAST-MODIFIED:20240702T032051Z
UID:2768-1723622400-1723827600@navaa.org
SUMMARY:National Sexual Assault Conference® (NSAC)
DESCRIPTION:Conference Website: http://www.nationalsexualassaultconference.org
URL:https://navaa.org/event/national-sexual-assault-conference-nsac/
END:VEVENT
BEGIN:VEVENT
DTSTART;TZID=America/Chicago:20240806T083000
DTEND;TZID=America/Chicago:20240808T120000
DTSTAMP:20260425T064918
CREATED:20240627T152032Z
LAST-MODIFIED:20240627T182015Z
UID:2755-1722933000-1723118400@navaa.org
SUMMARY:2024 VOCA National Joint Training Conference
DESCRIPTION:Conference Website: https://navaa.org/2024-voca-national-joint-training-conference/
URL:https://navaa.org/event/2024-voca-national-joint-training-conference/
END:VEVENT
BEGIN:VEVENT
DTSTART;TZID=America/Chicago:20240725T140000
DTEND;TZID=America/Chicago:20240725T153000
DTSTAMP:20260425T064918
CREATED:20240702T151002Z
LAST-MODIFIED:20240702T164816Z
UID:2775-1721916000-1721921400@navaa.org
SUMMARY:OVC VOCA Center: Match Requirements and Sources
DESCRIPTION:https://ncja.elevate.commpartners.com/p/VOCA-Assistance-Match-Webinar-2024
URL:https://navaa.org/event/ovc-voca-center-match-requirements-and-sources/
END:VEVENT
BEGIN:VEVENT
DTSTART;TZID=America/Chicago:20240717T130000
DTEND;TZID=America/Chicago:20240717T143000
DTSTAMP:20260425T064918
CREATED:20240626T194738Z
LAST-MODIFIED:20240627T184934Z
UID:2750-1721221200-1721226600@navaa.org
SUMMARY:Empowering Victims & Victim Service Providers: Navigating Media Pressure and Safeguarding Privacy
DESCRIPTION:Please join OVC-TTAC on Wednesday\, July 17\, 2024\, from 2:00–3:30 p.m. eastern time\, for the Office for Victims of Crime Training and Technical Assistance Center webinar “Empowering Victims & Victim Service Providers: Navigating Media Pressure and Safeguarding Privacy\,” hosted by Anastasiya Bolton and Krista Flannigan. \nhttps://myemail-api.constantcontact.com/Empowering-Victims—Victim-Service-Providers–Navigating-Media-Pressure-and-Safeguarding-Privacy.html?soid=1132418723253&aid=PAgeHGo33es
URL:https://navaa.org/event/empowering-victims-victim-service-providers-navigating-media-pressure-and-safeguarding-privacy/
END:VEVENT
BEGIN:VEVENT
DTSTART;TZID=America/Chicago:20240702T140000
DTEND;TZID=America/Chicago:20240702T150000
DTSTAMP:20260425T064918
CREATED:20240702T150853Z
LAST-MODIFIED:20240702T164842Z
UID:2773-1719928800-1719932400@navaa.org
SUMMARY:VOCA Assistance Roundtable
DESCRIPTION:https://ncja.elevate.commpartners.com/p/VOCA-Assistance-Roundtable-July-2024
URL:https://navaa.org/event/voca-assistance-roundtable/
END:VEVENT
END:VCALENDAR