BEGIN:VCALENDAR
VERSION:2.0
PRODID:-//NAVAA - ECPv6.15.20//NONSGML v1.0//EN
CALSCALE:GREGORIAN
METHOD:PUBLISH
X-ORIGINAL-URL:https://navaa.org
X-WR-CALDESC:Events for NAVAA
REFRESH-INTERVAL;VALUE=DURATION:PT1H
X-Robots-Tag:noindex
X-PUBLISHED-TTL:PT1H
BEGIN:VTIMEZONE
TZID:America/Chicago
BEGIN:DAYLIGHT
TZOFFSETFROM:-0600
TZOFFSETTO:-0500
TZNAME:CDT
DTSTART:20250309T080000
END:DAYLIGHT
BEGIN:STANDARD
TZOFFSETFROM:-0500
TZOFFSETTO:-0600
TZNAME:CST
DTSTART:20251102T070000
END:STANDARD
BEGIN:DAYLIGHT
TZOFFSETFROM:-0600
TZOFFSETTO:-0500
TZNAME:CDT
DTSTART:20260308T080000
END:DAYLIGHT
BEGIN:STANDARD
TZOFFSETFROM:-0500
TZOFFSETTO:-0600
TZNAME:CST
DTSTART:20261101T070000
END:STANDARD
BEGIN:DAYLIGHT
TZOFFSETFROM:-0600
TZOFFSETTO:-0500
TZNAME:CDT
DTSTART:20270314T080000
END:DAYLIGHT
BEGIN:STANDARD
TZOFFSETFROM:-0500
TZOFFSETTO:-0600
TZNAME:CST
DTSTART:20271107T070000
END:STANDARD
END:VTIMEZONE
BEGIN:VEVENT
DTSTART;VALUE=DATE:20260419
DTEND;VALUE=DATE:20260426
DTSTAMP:20260423T164422
CREATED:20251118T005657Z
LAST-MODIFIED:20251118T005657Z
UID:5227-1776556800-1777161599@navaa.org
SUMMARY:National Crime Victims' Rights Week
DESCRIPTION:Since 1981\, National Crime Victims’ Rights Week (NCVRW) has challenged the Nation to confront and remove barriers to achieving justice for all victims of crime. During NCVRW\, we recognize the accomplishments of the victims’ rights movement and reflect on how far we have come. \nEvery April\, the Office of Justice Program’s Office for Victims of Crime leads communities throughout the country in their annual observances of NCVRW. Together\, we will commemorate NCVRW April 19–25\, 2026.
URL:https://navaa.org/event/national-crime-victims-rights-week/
CATEGORIES:Members Only Events
END:VEVENT
BEGIN:VEVENT
DTSTART;TZID=America/Chicago:20260422T130000
DTEND;TZID=America/Chicago:20260422T143000
DTSTAMP:20260423T164422
CREATED:20260414T163551Z
LAST-MODIFIED:20260414T163551Z
UID:5929-1776862800-1776868200@navaa.org
SUMMARY:Vital Subjects: The Intersections of Animal Abuse\, Interpersonal Violence\, and Child Abuse
DESCRIPTION:This Vital Subjects webinar is designed to educate participants about the unique challenges faced by victims who have pets; the correlation between animal abuse\, interpersonal violence\, and child abuse; and the importance of providing safe havens for both humans and their pets. \nThe webinar will highlight the critical role that pet shelters\, such as Noah’s Animal House (a 2019 CNN Top Ten Hero)\, play in supporting survivors of interpersonal violence. This training is ideal for professionals working in domestic violence shelters\, animal welfare organizations\, child advocacy centers\, social services\, and law enforcement. \nParticipants will be able to: \n\nExplain the correlation between animal abuse and interpersonal violence\, and how it impacts both human and animal victims.\nDescribe at least two best practices for integrating pet-friendly policies and facilities into domestic violence shelters to ensure the safety and well-being of both survivors and their pets.\n\nThe webinar will be held April 22\, 2026 at 2:00pm ET/1:00 pm CT. For registration and additional information\, please click HERE. \n*This is not a NAVAA-hosted event.  Please see the registration page for contact details.*
URL:https://navaa.org/event/vital-subjects-the-intersections-of-animal-abuse-interpersonal-violence-and-child-abuse-2/
CATEGORIES:Members Only Events,Public Events
END:VEVENT
BEGIN:VEVENT
DTSTART;TZID=America/Chicago:20260423T090000
DTEND;TZID=America/Chicago:20260424T123000
DTSTAMP:20260423T164422
CREATED:20260318T144532Z
LAST-MODIFIED:20260318T144532Z
UID:5875-1776934800-1777033800@navaa.org
SUMMARY:Elder Abuse Multidisciplinary Team (MDT) Coordinator Training Registration
DESCRIPTION:MDT coordinators fill a critical role on elder abuse MDTs\, yet few educational resources exist to support their professional development. The Multidisciplinary Team Technical Assistance Center (MDT TAC) is offering a no-cost\, 2-day virtual training on three separate occasions specifically for Elder Abuse MDT Coordinators. In groups of approximately 10– 15 Coordinators\, fundamental Coordinator skill-building will be achieved through 10 educational modules that can be adapted to different needs and levels of experience.   \nTopics include: \n\nThe Role of the MDT Coordinator\nCreating a Strong Foundation\nUtilizing Best Practices to Serve Older Adults\nUnderstanding Confidentiality\nFacilitating Team Meetings\nBuilding a Culture of Collaboration\nEnhancing Team Engagement\nNavigating Team Dynamics\nProgram Evaluation\nBurnout and Self-Care\, and more\n\nThis is a two (2) day training and participants must register for both days. \n10:00am-1:30pm ET; April 23\, 2026 – Day 1 Registration; April 24\, 2026 – Day 2 Registration \n*This is not a NAVAA-hosted event.  Please see the registration page for contact details.*
URL:https://navaa.org/event/elder-abuse-multidisciplinary-team-mdt-coordinator-training-registration-2/
CATEGORIES:Members Only Events
END:VEVENT
BEGIN:VEVENT
DTSTART;VALUE=DATE:20260504
DTEND;VALUE=DATE:20260508
DTSTAMP:20260423T164422
CREATED:20260121T164621Z
LAST-MODIFIED:20260121T164621Z
UID:5650-1777852800-1778198399@navaa.org
SUMMARY:NACVCB National Conference
DESCRIPTION:NACVCB conference will be held May 4-7\, 2026. \nMore information will be available soon.  Check out the NACVCB website at https://nacvcb.org/
URL:https://navaa.org/event/nacvcb-national-conference/
CATEGORIES:Members Only Events
END:VEVENT
BEGIN:VEVENT
DTSTART;TZID=America/Chicago:20260505T123000
DTEND;TZID=America/Chicago:20260505T133000
DTSTAMP:20260423T164422
CREATED:20251022T203116Z
LAST-MODIFIED:20251022T204541Z
UID:5040-1777984200-1777987800@navaa.org
SUMMARY:NAVAA Member Debrief:  A Monthly Member Roundtable
DESCRIPTION: Join us for regular opportunities to share insights\, build relationships\, and support one another across our peer network. \nEvery 1st Tuesday from 1:30-2:30 pm ET \nJoin us for a monthly\, member-driven roundtable offering space for candid conversation and peer support. This informal meeting invites VOCA Assistance Administrators to share updates\, surface challenges\, and speak openly about what is happening in the field. Whether you’d like to raise an issue\, ask a question\, or simply listen in\, the NAVAA Member Debrief offers a valuable connection point for staying informed and supported. \nTo join the meeting\, click HERE. \n 
URL:https://navaa.org/event/navaa-member-debrief-a-monthly-member-roundtable-9/
CATEGORIES:Members Only Events
END:VEVENT
BEGIN:VEVENT
DTSTART;VALUE=DATE:20260512
DTEND;VALUE=DATE:20260515
DTSTAMP:20260423T164422
CREATED:20260112T160703Z
LAST-MODIFIED:20260112T160703Z
UID:5591-1778544000-1778803199@navaa.org
SUMMARY:Save the Date! Forum on Criminal Justice (2026)
DESCRIPTION:Please Save the Date! The 2026 Forum on Criminal Justice will take place virtually over three days-May 12\, 13 and 14 . NCJA members enjoy special discounted registration rates. Registration will open very soon! Please mark your calendar and plan to join your colleagues at this exciting and unique conference! \n*This is not a NAVAA-hosted event.  Please see the registration page for contact details.*
URL:https://navaa.org/event/save-the-date-forum-on-criminal-justice-2026/
CATEGORIES:Members Only Events,Public Events
END:VEVENT
BEGIN:VEVENT
DTSTART;TZID=America/Chicago:20260519T123000
DTEND;TZID=America/Chicago:20260519T140000
DTSTAMP:20260423T164422
CREATED:20251022T203157Z
LAST-MODIFIED:20251022T204438Z
UID:5039-1779193800-1779199200@navaa.org
SUMMARY:NAVAA Community of Practice
DESCRIPTION:NAVAA Community of Practice \nEvery 3rd Tuesday from 1:30-3:00 pm ET \nNAVAA’s Community of Practice is a monthly collaborative session where VOCA Assistance Administrators will share tools\, strategies\, and real-world experiences. Each meeting features peer-led presentations and guided discussion\, focusing on practical implementation and lessons learned. This space supports ongoing professional development and advances our ability to serve victims through shared expertise. \nTo join the meeting\, click HERE.
URL:https://navaa.org/event/navaa-community-of-practice-8/
CATEGORIES:Members Only Events
END:VEVENT
BEGIN:VEVENT
DTSTART;TZID=America/Chicago:20260602T123000
DTEND;TZID=America/Chicago:20260602T133000
DTSTAMP:20260423T164422
CREATED:20251022T203310Z
LAST-MODIFIED:20251022T204411Z
UID:5043-1780403400-1780407000@navaa.org
SUMMARY:NAVAA Member Debrief:  A Monthly Member Roundtable
DESCRIPTION: Join us for regular opportunities to share insights\, build relationships\, and support one another across our peer network. \nEvery 1st Tuesday from 1:30-2:30 pm ET \nJoin us for a monthly\, member-driven roundtable offering space for candid conversation and peer support. This informal meeting invites VOCA Assistance Administrators to share updates\, surface challenges\, and speak openly about what is happening in the field. Whether you’d like to raise an issue\, ask a question\, or simply listen in\, the NAVAA Member Debrief offers a valuable connection point for staying informed and supported. \nTo join the meeting\, click HERE. \n 
URL:https://navaa.org/event/navaa-member-debrief-a-monthly-member-roundtable-10/
CATEGORIES:Members Only Events
END:VEVENT
BEGIN:VEVENT
DTSTART;TZID=America/Chicago:20260611T090000
DTEND;TZID=America/Chicago:20260612T123000
DTSTAMP:20260423T164422
CREATED:20260318T144821Z
LAST-MODIFIED:20260318T144821Z
UID:5877-1781168400-1781267400@navaa.org
SUMMARY:Elder Abuse Multidisciplinary Team (MDT) Coordinator Training Registration
DESCRIPTION:MDT coordinators fill a critical role on elder abuse MDTs\, yet few educational resources exist to support their professional development. The Multidisciplinary Team Technical Assistance Center (MDT TAC) is offering a no-cost\, 2-day virtual training on three separate occasions specifically for Elder Abuse MDT Coordinators. In groups of approximately 10– 15 Coordinators\, fundamental Coordinator skill-building will be achieved through 10 educational modules that can be adapted to different needs and levels of experience.   \nTopics include: \n\nThe Role of the MDT Coordinator\nCreating a Strong Foundation\nUtilizing Best Practices to Serve Older Adults\nUnderstanding Confidentiality\nFacilitating Team Meetings\nBuilding a Culture of Collaboration\nEnhancing Team Engagement\nNavigating Team Dynamics\nProgram Evaluation\nBurnout and Self-Care\, and more\n\nThis is a two (2) day training and participants must register for both days. \n10:00am-1:30pm ET; June 11\, 2026 – Day 1 Registration; June 12\, 2026 – Day 2 Registration. \n*This is not a NAVAA-hosted event.  Please see the registration page for contact details.*
URL:https://navaa.org/event/elder-abuse-multidisciplinary-team-mdt-coordinator-training-registration-3/
CATEGORIES:Members Only Events
END:VEVENT
BEGIN:VEVENT
DTSTART;TZID=America/Chicago:20260616T123000
DTEND;TZID=America/Chicago:20260616T140000
DTSTAMP:20260423T164422
CREATED:20251022T203353Z
LAST-MODIFIED:20251022T204345Z
UID:5044-1781613000-1781618400@navaa.org
SUMMARY:NAVAA Community of Practice
DESCRIPTION:NAVAA Community of Practice \nEvery 3rd Tuesday from 1:30-3:00 pm ET \nNAVAA’s Community of Practice is a monthly collaborative session where VOCA Assistance Administrators will share tools\, strategies\, and real-world experiences. Each meeting features peer-led presentations and guided discussion\, focusing on practical implementation and lessons learned. This space supports ongoing professional development and advances our ability to serve victims through shared expertise. \nTo join the meeting\, click HERE.
URL:https://navaa.org/event/navaa-community-of-practice-9/
CATEGORIES:Members Only Events
END:VEVENT
BEGIN:VEVENT
DTSTART;TZID=America/Chicago:20260707T123000
DTEND;TZID=America/Chicago:20260707T133000
DTSTAMP:20260423T164422
CREATED:20251022T203543Z
LAST-MODIFIED:20251022T204306Z
UID:5049-1783427400-1783431000@navaa.org
SUMMARY:NAVAA Member Debrief:  A Monthly Member Roundtable
DESCRIPTION: Join us for regular opportunities to share insights\, build relationships\, and support one another across our peer network. \nEvery 1st Tuesday from 1:30-2:30 pm ET \nJoin us for a monthly\, member-driven roundtable offering space for candid conversation and peer support. This informal meeting invites VOCA Assistance Administrators to share updates\, surface challenges\, and speak openly about what is happening in the field. Whether you’d like to raise an issue\, ask a question\, or simply listen in\, the NAVAA Member Debrief offers a valuable connection point for staying informed and supported. \nTo join the meeting\, click HERE. \n 
URL:https://navaa.org/event/navaa-member-debrief-a-monthly-member-roundtable-11/
CATEGORIES:Members Only Events
END:VEVENT
BEGIN:VEVENT
DTSTART;TZID=America/Chicago:20260721T080000
DTEND;TZID=America/Chicago:20260723T170000
DTSTAMP:20260423T164422
CREATED:20260128T155810Z
LAST-MODIFIED:20260128T155810Z
UID:5671-1784620800-1784826000@navaa.org
SUMMARY:Registration for NOVA's 52nd Annual Training Event is NOW OPEN!
DESCRIPTION:NOVA’s 52 Annual Training Event – Why We Advocate: Stronger Together\nThis year’s theme\, Stronger Together\, speaks to the importance of coming together to create a future where support and justice go hand in hand. Victim advocates\, crisis responders and allied professionals stand stronger together\, the same way NOVA stood with the Las Vegas community following the Route 91 tragedy. NOVA’s Annual Training Event is where we learn\, connect\, and reaffirm our shared commitment to justice and healing. \nFore more information\, click HERE. \n*This is not a NAVAA-based event.  Please see the registration page for contact details.*
URL:https://navaa.org/event/registration-for-novas-52nd-annual-training-event-is-now-open/
CATEGORIES:Members Only Events,Public Events
END:VEVENT
BEGIN:VEVENT
DTSTART;TZID=America/Chicago:20260721T123000
DTEND;TZID=America/Chicago:20260721T140000
DTSTAMP:20260423T164422
CREATED:20251022T203427Z
LAST-MODIFIED:20251022T204233Z
UID:5047-1784637000-1784642400@navaa.org
SUMMARY:NAVAA Community of Practice
DESCRIPTION:NAVAA Community of Practice \nEvery 3rd Tuesday from 1:30-3:00 pm ET \nNAVAA’s Community of Practice is a monthly collaborative session where VOCA Assistance Administrators will share tools\, strategies\, and real-world experiences. Each meeting features peer-led presentations and guided discussion\, focusing on practical implementation and lessons learned. This space supports ongoing professional development and advances our ability to serve victims through shared expertise. \nTo join the meeting\, click HERE.
URL:https://navaa.org/event/navaa-community-of-practice-10/
CATEGORIES:Members Only Events
END:VEVENT
BEGIN:VEVENT
DTSTART;TZID=America/Chicago:20260728T140000
DTEND;TZID=America/Chicago:20260728T151500
DTSTAMP:20260423T164422
CREATED:20260311T154453Z
LAST-MODIFIED:20260311T154453Z
UID:5851-1785247200-1785251700@navaa.org
SUMMARY:Integrating Pets into Survivor-Centered Care
DESCRIPTION:Pet owners experiencing violence often struggle to access shelter\, and many may even decline lifesaving services if it means leaving their animals behind. Pet-inclusive services can remove these barriers to safety\, protect vulnerable individuals\, and help keep families together. \nThis webinar will explore the powerful role pets play in human health and emotional resilience\, the connection between animal cruelty and family violence\, and innovative strategies to incorporate pets into supportive services. \nFor more information or to register\, go to the registration page HERE. \n*This is not a NAVAA-based event.  Please see the registration page for contact details.*
URL:https://navaa.org/event/integrating-pets-into-survivor-centered-care/
CATEGORIES:Members Only Events
END:VEVENT
BEGIN:VEVENT
DTSTART;TZID=America/Chicago:20260804T123000
DTEND;TZID=America/Chicago:20260804T133000
DTSTAMP:20260423T164422
CREATED:20251022T203642Z
LAST-MODIFIED:20251022T204106Z
UID:5051-1785846600-1785850200@navaa.org
SUMMARY:NAVAA Member Debrief:  A Monthly Member Roundtable
DESCRIPTION: Join us for regular opportunities to share insights\, build relationships\, and support one another across our peer network. \nEvery 1st Tuesday from 1:30-2:30 pm ET \nJoin us for a monthly\, member-driven roundtable offering space for candid conversation and peer support. This informal meeting invites VOCA Assistance Administrators to share updates\, surface challenges\, and speak openly about what is happening in the field. Whether you’d like to raise an issue\, ask a question\, or simply listen in\, the NAVAA Member Debrief offers a valuable connection point for staying informed and supported. \nTo join the meeting\, click HERE. \n 
URL:https://navaa.org/event/navaa-member-debrief-a-monthly-member-roundtable-12/
CATEGORIES:Members Only Events
END:VEVENT
BEGIN:VEVENT
DTSTART;TZID=America/Chicago:20260818T123000
DTEND;TZID=America/Chicago:20260818T140000
DTSTAMP:20260423T164422
CREATED:20251022T203717Z
LAST-MODIFIED:20251022T204029Z
UID:5052-1787056200-1787061600@navaa.org
SUMMARY:NAVAA Community of Practice
DESCRIPTION:NAVAA Community of Practice \nEvery 3rd Tuesday from 1:30-3:00 pm ET \nNAVAA’s Community of Practice is a monthly collaborative session where VOCA Assistance Administrators will share tools\, strategies\, and real-world experiences. Each meeting features peer-led presentations and guided discussion\, focusing on practical implementation and lessons learned. This space supports ongoing professional development and advances our ability to serve victims through shared expertise. \nTo join the meeting\, click HERE.
URL:https://navaa.org/event/navaa-community-of-practice-11/
CATEGORIES:Members Only Events
END:VEVENT
BEGIN:VEVENT
DTSTART;TZID=America/Chicago:20260901T123000
DTEND;TZID=America/Chicago:20260901T133000
DTSTAMP:20260423T164422
CREATED:20251022T203825Z
LAST-MODIFIED:20251022T203825Z
UID:5056-1788265800-1788269400@navaa.org
SUMMARY:NAVAA Member Debrief:  A Monthly Member Roundtable
DESCRIPTION: Join us for regular opportunities to share insights\, build relationships\, and support one another across our peer network. \nEvery 1st Tuesday from 1:30-2:30 pm ET \nJoin us for a monthly\, member-driven roundtable offering space for candid conversation and peer support. This informal meeting invites VOCA Assistance Administrators to share updates\, surface challenges\, and speak openly about what is happening in the field. Whether you’d like to raise an issue\, ask a question\, or simply listen in\, the NAVAA Member Debrief offers a valuable connection point for staying informed and supported. \nTo join the meeting\, click HERE. \n 
URL:https://navaa.org/event/navaa-member-debrief-a-monthly-member-roundtable-13/
CATEGORIES:Members Only Events
END:VEVENT
BEGIN:VEVENT
DTSTART;TZID=America/Chicago:20260915T123000
DTEND;TZID=America/Chicago:20260915T140000
DTSTAMP:20260423T164422
CREATED:20251022T203927Z
LAST-MODIFIED:20251022T203927Z
UID:5057-1789475400-1789480800@navaa.org
SUMMARY:NAVAA Community of Practice
DESCRIPTION:NAVAA Community of Practice \nEvery 3rd Tuesday from 1:30-3:00 pm ET \nNAVAA’s Community of Practice is a monthly collaborative session where VOCA Assistance Administrators will share tools\, strategies\, and real-world experiences. Each meeting features peer-led presentations and guided discussion\, focusing on practical implementation and lessons learned. This space supports ongoing professional development and advances our ability to serve victims through shared expertise. \nTo join the meeting\, click HERE.
URL:https://navaa.org/event/navaa-community-of-practice-12/
CATEGORIES:Members Only Events
END:VEVENT
BEGIN:VEVENT
DTSTART;TZID=America/Chicago:20261006T123000
DTEND;TZID=America/Chicago:20261006T133000
DTSTAMP:20260423T164422
CREATED:20251022T205956Z
LAST-MODIFIED:20251022T205956Z
UID:5061-1791289800-1791293400@navaa.org
SUMMARY:NAVAA Member Debrief:  A Monthly Member Roundtable
DESCRIPTION: Join us for regular opportunities to share insights\, build relationships\, and support one another across our peer network. \nEvery 1st Tuesday from 1:30-2:30 pm ET \nJoin us for a monthly\, member-driven roundtable offering space for candid conversation and peer support. This informal meeting invites VOCA Assistance Administrators to share updates\, surface challenges\, and speak openly about what is happening in the field. Whether you’d like to raise an issue\, ask a question\, or simply listen in\, the NAVAA Member Debrief offers a valuable connection point for staying informed and supported. \nTo join the meeting\, click HERE. \n 
URL:https://navaa.org/event/navaa-member-debrief-a-monthly-member-roundtable-14/
CATEGORIES:Members Only Events
END:VEVENT
BEGIN:VEVENT
DTSTART;TZID=America/Chicago:20261020T123000
DTEND;TZID=America/Chicago:20261020T140000
DTSTAMP:20260423T164422
CREATED:20251022T210028Z
LAST-MODIFIED:20251022T210028Z
UID:5060-1792499400-1792504800@navaa.org
SUMMARY:NAVAA Community of Practice
DESCRIPTION:NAVAA Community of Practice \nEvery 3rd Tuesday from 1:30-3:00 pm ET \nNAVAA’s Community of Practice is a monthly collaborative session where VOCA Assistance Administrators will share tools\, strategies\, and real-world experiences. Each meeting features peer-led presentations and guided discussion\, focusing on practical implementation and lessons learned. This space supports ongoing professional development and advances our ability to serve victims through shared expertise. \nTo join the meeting\, click HERE.
URL:https://navaa.org/event/navaa-community-of-practice-13/
CATEGORIES:Members Only Events
END:VEVENT
BEGIN:VEVENT
DTSTART;TZID=America/Chicago:20261103T123000
DTEND;TZID=America/Chicago:20261103T133000
DTSTAMP:20260423T164422
CREATED:20251022T210145Z
LAST-MODIFIED:20251022T210145Z
UID:5064-1793709000-1793712600@navaa.org
SUMMARY:NAVAA Member Debrief:  A Monthly Member Roundtable
DESCRIPTION: Join us for regular opportunities to share insights\, build relationships\, and support one another across our peer network. \nEvery 1st Tuesday from 1:30-2:30 pm ET \nJoin us for a monthly\, member-driven roundtable offering space for candid conversation and peer support. This informal meeting invites VOCA Assistance Administrators to share updates\, surface challenges\, and speak openly about what is happening in the field. Whether you’d like to raise an issue\, ask a question\, or simply listen in\, the NAVAA Member Debrief offers a valuable connection point for staying informed and supported. \nTo join the meeting\, click HERE. \n 
URL:https://navaa.org/event/navaa-member-debrief-a-monthly-member-roundtable-15/
CATEGORIES:Members Only Events
END:VEVENT
BEGIN:VEVENT
DTSTART;TZID=America/Chicago:20261117T123000
DTEND;TZID=America/Chicago:20261117T140000
DTSTAMP:20260423T164422
CREATED:20251022T210239Z
LAST-MODIFIED:20251022T210239Z
UID:5065-1794918600-1794924000@navaa.org
SUMMARY:NAVAA Community of Practice
DESCRIPTION:NAVAA Community of Practice \nEvery 3rd Tuesday from 1:30-3:00 pm ET \nNAVAA’s Community of Practice is a monthly collaborative session where VOCA Assistance Administrators will share tools\, strategies\, and real-world experiences. Each meeting features peer-led presentations and guided discussion\, focusing on practical implementation and lessons learned. This space supports ongoing professional development and advances our ability to serve victims through shared expertise. \nTo join the meeting\, click HERE.
URL:https://navaa.org/event/navaa-community-of-practice-14/
CATEGORIES:Members Only Events
END:VEVENT
END:VCALENDAR