BEGIN:VCALENDAR
VERSION:2.0
PRODID:-//NAVAA - ECPv6.15.20//NONSGML v1.0//EN
CALSCALE:GREGORIAN
METHOD:PUBLISH
X-ORIGINAL-URL:https://navaa.org
X-WR-CALDESC:Events for NAVAA
REFRESH-INTERVAL;VALUE=DURATION:PT1H
X-Robots-Tag:noindex
X-PUBLISHED-TTL:PT1H
BEGIN:VTIMEZONE
TZID:America/Chicago
BEGIN:DAYLIGHT
TZOFFSETFROM:-0600
TZOFFSETTO:-0500
TZNAME:CDT
DTSTART:20240310T080000
END:DAYLIGHT
BEGIN:STANDARD
TZOFFSETFROM:-0500
TZOFFSETTO:-0600
TZNAME:CST
DTSTART:20241103T070000
END:STANDARD
BEGIN:DAYLIGHT
TZOFFSETFROM:-0600
TZOFFSETTO:-0500
TZNAME:CDT
DTSTART:20250309T080000
END:DAYLIGHT
BEGIN:STANDARD
TZOFFSETFROM:-0500
TZOFFSETTO:-0600
TZNAME:CST
DTSTART:20251102T070000
END:STANDARD
BEGIN:DAYLIGHT
TZOFFSETFROM:-0600
TZOFFSETTO:-0500
TZNAME:CDT
DTSTART:20260308T080000
END:DAYLIGHT
BEGIN:STANDARD
TZOFFSETFROM:-0500
TZOFFSETTO:-0600
TZNAME:CST
DTSTART:20261101T070000
END:STANDARD
END:VTIMEZONE
BEGIN:VEVENT
DTSTART;TZID=America/Chicago:20250310T080000
DTEND;TZID=America/Chicago:20250310T170000
DTSTAMP:20260424T092723
CREATED:20250307T152433Z
LAST-MODIFIED:20250307T152546Z
UID:3407-1741593600-1741626000@navaa.org
SUMMARY:Sustaining Your Program's Capacity To Serve Victims
DESCRIPTION:*This is not a NAVAA-hosted event.  Please see the registration page for contact details* \nSustainability is the capacity of a program or organization to accomplish long-lasting success and stability by establishing the organization or program as an essential service to victims and the community. Victim service organizations and programs need to plan for sustainability in order to continue providing high-quality services to victims of crime. The Sustaining Your Program’s Capacity To Serve Victims training addresses what sustainability means\, how to assess a program’s sustainability\, the eight sustainability domains (Program Adaptation\, Strategic Communications\, Program Evaluation\, Supportive Environment\, Organizational Capacity\, Strategic Partnerships\, Resource Development\, and Strategic Planning)\, and how to develop a sustainability plan.  For more information\, click HERE.
URL:https://navaa.org/event/sustaining-your-programs-capacity-to-serve-victims/
END:VEVENT
BEGIN:VEVENT
DTSTART;TZID=America/Chicago:20250312T130000
DTEND;TZID=America/Chicago:20250312T140000
DTSTAMP:20260424T092723
CREATED:20250305T202655Z
LAST-MODIFIED:20250305T211425Z
UID:3398-1741784400-1741788000@navaa.org
SUMMARY:The Science of Hope: An Introduction for Victim Service Providers
DESCRIPTION:*This is not a NAVAA-hosted event. Please see the registration page for contact details* \nHope has emerged as one of the top protective factors leading to well-being. This Center for Victim Research workshop will discuss the science of hope as a psychological strength in our ability to cope with adversity and trauma.  This workshop will summarize over 15 years of research that show (1) hope predicts positive outcomes\, (2) hope buffers the effects of adversity\, and (3) hope can be influenced and sustained.  Dr. Hellman’s published research has demonstrated that hope promotes outcomes for survivors and is an important contributor to staff well-being.  For more information\, click HERE.
URL:https://navaa.org/event/the-science-of-hope-an-introduction-for-victim-service-providers/
END:VEVENT
BEGIN:VEVENT
DTSTART;TZID=America/Chicago:20250320T120000
DTEND;TZID=America/Chicago:20250320T140000
DTSTAMP:20260424T092723
CREATED:20250307T145129Z
LAST-MODIFIED:20250307T145129Z
UID:3405-1742472000-1742479200@navaa.org
SUMMARY:Special Considerations for Deaf Victims of Crime
DESCRIPTION:*This is not a NAVAA-hosted event.  Please see the registration page for contact details* \nDeaf individuals in the United States face domestic or sexual violence rates equal to or higher than hearing individuals but often encounter systemic barriers and challenges when seeking help. This webinar will explore working with Deaf crime victims\, such as victims of intimate partner violence\, sexual assault\, and financial crimes. Language and communication methods in the Deaf community and the societal impact of audism will be examined. Information on “For the Deaf by the Deaf” programs and other resources benefiting Deaf victims in their communities will also be shared.  For more information\, click HERE.
URL:https://navaa.org/event/special-considerations-for-deaf-victims-of-crime-2/
END:VEVENT
BEGIN:VEVENT
DTSTART;TZID=America/Chicago:20250326T140000
DTEND;TZID=America/Chicago:20250326T150000
DTSTAMP:20260424T092723
CREATED:20250307T152800Z
LAST-MODIFIED:20250307T152800Z
UID:3411-1742997600-1743001200@navaa.org
SUMMARY:Webinar: Succession Planning for Victim Services
DESCRIPTION:*This is not a NAVAA-hosted event.  Please see the registration page for contact details.* \nSuccession planning in victim services is essential for ensuring the continuity and effectiveness of organizations that support crime victims. The Succession Planning webinar will discuss the process involved in preparing for leadership transitions to maintain the organization’s mission and operations. \nIn victim services\, succession planning helps organizations remain resilient and responsive to the community’s needs. It involves identifying potential leaders within the organization and preparing them for future roles. This preparation can include training\, mentorship\, and opportunities for professional growth. \nFor more information\, click HERE.
URL:https://navaa.org/event/webinar-succession-planning-for-victim-services/
END:VEVENT
BEGIN:VEVENT
DTSTART;TZID=America/Chicago:20250327T130000
DTEND;TZID=America/Chicago:20250327T140000
DTSTAMP:20260424T092723
CREATED:20250324T181430Z
LAST-MODIFIED:20250324T181430Z
UID:3452-1743080400-1743084000@navaa.org
SUMMARY:NOVA Community Gathering: Building Compassion\, Resilience and Excellence in Times of Uncertainty
DESCRIPTION:*This is not a NAVAA-hosted event.  Please see the registration page for contact details.* \nJoin NOVA on March 27\, 2025; 2pm-3pm ET for our monthly community gathering. \nFree and open to the public\, we use this time to connect as we all navigate uncertainty together. Joined by experts in the field\, each month\, we will focus on different topics to support the victim services community. This month\, Katharine Manning will discuss how we can work as a community to build compassion\, resilience\, and excellence\, even in times of uncertainty. \nThese events are not recorded\, nor are there CEUs for participating.  For more information\, click HERE.
URL:https://navaa.org/event/nova-community-gathering-building-compassion-resilience-and-excellence-in-times-of-uncertainty/
END:VEVENT
BEGIN:VEVENT
DTSTART;TZID=America/Chicago:20250327T140000
DTEND;TZID=America/Chicago:20250327T153000
DTSTAMP:20260424T092723
CREATED:20250226T161613Z
LAST-MODIFIED:20250226T161613Z
UID:3364-1743084000-1743089400@navaa.org
SUMMARY:Overview of the Three Centers Often Created in the Aftermath of Mass Violence Incidents
DESCRIPTION:In the aftermath of many mass violence incidents (MVIs)\, local\, state\, national\, Tribal and Federal leaders collaborate to create three Centers that identify and address the many needs of victims\, survivors\, first responders and the community-at-large: \n\nFriends & Relatives Center (FRC)\nFamily Assistance Center (FAC)\nResiliency Center (RC)\n\nWhile each Center and its services are unique to the impacted community\, national guidance and protocols have been created that can help communities plan for the most critical components of each Center\, which can be easily adapted to a specific community and MVI.  This National Town Hall will provide an overview of each Center; resources available to help support them; and the continuum of services that are provided across the implementation of each Center.  For more information\, click HERE.
URL:https://navaa.org/event/overview-of-the-three-centers-often-created-in-the-aftermath-of-mass-violence-incidents/
END:VEVENT
END:VCALENDAR