BEGIN:VCALENDAR
VERSION:2.0
PRODID:-//NAVAA - ECPv6.15.20//NONSGML v1.0//EN
CALSCALE:GREGORIAN
METHOD:PUBLISH
X-WR-CALNAME:NAVAA
X-ORIGINAL-URL:https://navaa.org
X-WR-CALDESC:Events for NAVAA
REFRESH-INTERVAL;VALUE=DURATION:PT1H
X-Robots-Tag:noindex
X-PUBLISHED-TTL:PT1H
BEGIN:VTIMEZONE
TZID:America/Chicago
BEGIN:DAYLIGHT
TZOFFSETFROM:-0600
TZOFFSETTO:-0500
TZNAME:CDT
DTSTART:20240310T080000
END:DAYLIGHT
BEGIN:STANDARD
TZOFFSETFROM:-0500
TZOFFSETTO:-0600
TZNAME:CST
DTSTART:20241103T070000
END:STANDARD
BEGIN:DAYLIGHT
TZOFFSETFROM:-0600
TZOFFSETTO:-0500
TZNAME:CDT
DTSTART:20250309T080000
END:DAYLIGHT
BEGIN:STANDARD
TZOFFSETFROM:-0500
TZOFFSETTO:-0600
TZNAME:CST
DTSTART:20251102T070000
END:STANDARD
BEGIN:DAYLIGHT
TZOFFSETFROM:-0600
TZOFFSETTO:-0500
TZNAME:CDT
DTSTART:20260308T080000
END:DAYLIGHT
BEGIN:STANDARD
TZOFFSETFROM:-0500
TZOFFSETTO:-0600
TZNAME:CST
DTSTART:20261101T070000
END:STANDARD
END:VTIMEZONE
BEGIN:VEVENT
DTSTART;TZID=America/Chicago:20250603T140000
DTEND;TZID=America/Chicago:20250603T150000
DTSTAMP:20260424T041016
CREATED:20250321T170557Z
LAST-MODIFIED:20250321T170557Z
UID:3447-1748959200-1748962800@navaa.org
SUMMARY:The OVC VOCA Center - June Roundtable for VOCA Assistance Administrators
DESCRIPTION:*This is not a NAVAA-based event.  Please see the registration page for contact details.* \nAdministrators will have the opportunity to network and build relationships with their peers\, discuss successes and challenges that will guide future training and technical assistance themes and topics.  For more information\, click HERE.
URL:https://navaa.org/event/the-ovc-voca-center-june-roundtable-for-voca-assistance-administrators/
END:VEVENT
BEGIN:VEVENT
DTSTART;TZID=America/Chicago:20250616T080000
DTEND;TZID=America/Chicago:20250616T170000
DTSTAMP:20260424T041016
CREATED:20250603T152703Z
LAST-MODIFIED:20250603T200713Z
UID:3499-1750060800-1750093200@navaa.org
SUMMARY:Advanced Skills - Building Trauma-Informed Organizations
DESCRIPTION:*This is not a NAVAA-hosted event.  Please see the registration page for contact details* \nA trauma-informed organization is one where all practices and services are viewed through the lens of trauma. \nIn a trauma-informed organization\, programs respond empathically to survivors’ needs\, ensure their physical and emotional safety\, develop realistic goals\, and avoid re-traumatization. The Building Trauma-Informed Organizations training provides guidance on how your organization can become trauma-informed and how to modify policies and procedures to respond to trauma victims. \nThis training is designed for those responsible for designing and implementing their organization’s programs and policies. \nThis training will be delivered online\, over the course of 5 weeks\, beginning on June 16\, 2025. \nEach week\, except for the introductory week\, will include a facilitated webinar. There are recommended readings and videos\, as well as written assignments. You should expect to spend about an hour per week on the assignments\, in addition to participating in the 75-minute webinar. CEUs will be awarded for those who complete all requirements. You will find the training schedule here. \nPlease review your schedule to make sure you are available to attend either the live or recorded webinars and will be able to make the necessary time commitment to complete the training activities. \nThis training is part of the NVAA Advanced Skills Institute\, and\, like all OVC TTAC trainings\, participation is free. \nFor more information\, click HERE. \n 
URL:https://navaa.org/event/advanced-skills-building-trauma-informed-organizations/
END:VEVENT
BEGIN:VEVENT
DTSTART;TZID=America/Chicago:20250617T140000
DTEND;TZID=America/Chicago:20250617T151500
DTSTAMP:20260424T041016
CREATED:20250321T170807Z
LAST-MODIFIED:20250321T170807Z
UID:3449-1750168800-1750173300@navaa.org
SUMMARY:General Tech and Safety Planning for Victim Advocates
DESCRIPTION:*This is not a NAVAA-hosted event.  Please see the registration page for contact details.* \nThroughout this Justice Clearinghouse webinar\, participants will attain the necessary knowledge and information to assist victims and survivors in completing a general technology assessment. They will also be equipped to understand cybersecurity best practices and the proper handling of sensitive information. Furthermore\, participants will receive information on how to complete a threat assessment and protect and back up data on their mobile devices.  For more information\, click HERE.
URL:https://navaa.org/event/general-tech-and-safety-planning-for-victim-advocates/
END:VEVENT
BEGIN:VEVENT
DTSTART;TZID=America/Chicago:20250618T123000
DTEND;TZID=America/Chicago:20250618T140000
DTSTAMP:20260424T041016
CREATED:20250529T181048Z
LAST-MODIFIED:20250603T201044Z
UID:3494-1750249800-1750255200@navaa.org
SUMMARY:Responding to Mass Violence: Essential Skills for Victim Assistance
DESCRIPTION:*This is not a NAVAA-hosted event.  Please see the registration page for contact details* \nPlease join us on Wednesday\, June 18\, 2025\, from 1:30–3:00 p.m. Eastern time\, for the Office for Victims of Crime Training and Technical Assistance Center webinar “Responding to Mass Violence: Essential Skills for Victim Assistance\,” hosted by Krista R. Flannigan\, J.D.\, and Mary Vail Ware. \nThis Vital Subjects webinar is designed to empower victim assistance providers with the best practices for trauma-informed care in the wake of mass violence incidents. Participants will learn how trauma may affect a survivor’s reactions and learn effective strategies to enhance trauma-informed responses for survivors and families. Information will also be shared about the different types of resource centers that may be established to support recovery after an incident of mass violence and the role of victim assistance in this type of program. \nThe “Responding to Mass Violence: Essential Skills for Victim Assistance” webinar is part of the Vital Subjects series. This series will address topics that are critical to the victim services field across the country. \nFor more information\, click HERE.
URL:https://navaa.org/event/responding-to-mass-violence-essential-skills-for-victim-assistance/
END:VEVENT
BEGIN:VEVENT
DTSTART;TZID=America/Chicago:20250630T080000
DTEND;TZID=America/Chicago:20250725T170000
DTSTAMP:20260424T041016
CREATED:20250606T192423Z
LAST-MODIFIED:20250606T192423Z
UID:3509-1751270400-1753462800@navaa.org
SUMMARY:National Victim Assistance Academy (NVAA) Effective Management Series: Developing and Sustaining Collaborations
DESCRIPTION:*This is not a NAVAA-hosted event.  Please see the registration page for contact details.* \nThe mission of NVAA is to provide an intensive\, interactive learning experience to develop and promote professional skills and knowledge for victim service providers. The Effective Management Series offers comprehensive and practical trainings to build organizational capacity. \nCollaborations are a primary strategy to help an organization achieve its mission; yet\, they are often difficult to implement and sustain. This training will identify methods that you can use to explore\, plan\, implement\, and evaluate strategic collaborations. The Developing and Sustaining Collaborations training is designed for victim service providers who are responsible for developing and sustaining collaborations. \nThe training will be delivered online over the course of 4 weeks\, beginning on June 30\, 2025. Registration will open soon. Sign up for the OVC TTAC email list to receive registration notices. \n 
URL:https://navaa.org/event/national-victim-assistance-academy-nvaa-effective-management-series-developing-and-sustaining-collaborations/
END:VEVENT
END:VCALENDAR