BEGIN:VCALENDAR
VERSION:2.0
PRODID:-//NAVAA - ECPv6.15.20//NONSGML v1.0//EN
CALSCALE:GREGORIAN
METHOD:PUBLISH
X-WR-CALNAME:NAVAA
X-ORIGINAL-URL:https://navaa.org
X-WR-CALDESC:Events for NAVAA
REFRESH-INTERVAL;VALUE=DURATION:PT1H
X-Robots-Tag:noindex
X-PUBLISHED-TTL:PT1H
BEGIN:VTIMEZONE
TZID:America/Chicago
BEGIN:DAYLIGHT
TZOFFSETFROM:-0600
TZOFFSETTO:-0500
TZNAME:CDT
DTSTART:20250309T080000
END:DAYLIGHT
BEGIN:STANDARD
TZOFFSETFROM:-0500
TZOFFSETTO:-0600
TZNAME:CST
DTSTART:20251102T070000
END:STANDARD
BEGIN:DAYLIGHT
TZOFFSETFROM:-0600
TZOFFSETTO:-0500
TZNAME:CDT
DTSTART:20260308T080000
END:DAYLIGHT
BEGIN:STANDARD
TZOFFSETFROM:-0500
TZOFFSETTO:-0600
TZNAME:CST
DTSTART:20261101T070000
END:STANDARD
BEGIN:DAYLIGHT
TZOFFSETFROM:-0600
TZOFFSETTO:-0500
TZNAME:CDT
DTSTART:20270314T080000
END:DAYLIGHT
BEGIN:STANDARD
TZOFFSETFROM:-0500
TZOFFSETTO:-0600
TZNAME:CST
DTSTART:20271107T070000
END:STANDARD
END:VTIMEZONE
BEGIN:VEVENT
DTSTART;TZID=America/Chicago:20260106T123000
DTEND;TZID=America/Chicago:20260106T133000
DTSTAMP:20260423T163622
CREATED:20251022T193031Z
LAST-MODIFIED:20251117T224731Z
UID:5016-1767702600-1767706200@navaa.org
SUMMARY:NAVAA Member Debrief:  A Monthly Member Roundtable
DESCRIPTION: Join us for regular opportunities to share insights\, build relationships\, and support one another across our peer network. \nEvery 1st Tuesday from 1:30-2:30 pm ET \nJoin us for a monthly\, member-driven roundtable offering space for candid conversation and peer support. This informal meeting invites VOCA Assistance Administrators to share updates\, surface challenges\, and speak openly about what is happening in the field. Whether you’d like to raise an issue\, ask a question\, or simply listen in\, the NAVAA Member Debrief offers a valuable connection point for staying informed and supported. \nTo join the meeting\, click HERE. \n 
URL:https://navaa.org/event/navaa-member-debrief-a-monthly-member-roundtable-5/
CATEGORIES:Members Only Events
END:VEVENT
BEGIN:VEVENT
DTSTART;TZID=America/Chicago:20260114T110000
DTEND;TZID=America/Chicago:20260114T123000
DTSTAMP:20260423T163622
CREATED:20260106T184205Z
LAST-MODIFIED:20260112T161130Z
UID:5536-1768388400-1768393800@navaa.org
SUMMARY:RSVP for SAVE VOCA Advocacy Day!
DESCRIPTION:Join us on Wednesday\, January 14\, 2026\, for SAVE VOCA Advocacy Day on Capitol Hill as we advocate for the passage of H.R. 909: The Crime Victim Fund Stabilization Act of 2025—a critical step toward securing stable\, long-term funding for services survivors rely on. \nEvent Details \nDate: Wednesday\, January 14\, 2026\nTime: 12:00 PM\nLocation: Rayburn House Office Building\, Room 2075\, Washington\, D.C. \nThis Advocacy Day\, hosted under the Save VOCA banner\, will provide an opportunity to meet with lawmakers\, share survivor experiences\, and demonstrate broad support for stabilizing the Crime Victim Fund. \nPlease indicate whether you plan to attend in person or virtually. Additional details regarding the agenda\, logistics\, and participation options will be shared with registered participants as the event approaches. \nThank you for standing with us in support of survivors and victim-service programs. \nHosted by Restorative Pathways \nFor more information\, click HERE. \n*This is not a NAVAA-hosted event.  Please see the registration page for contact details*
URL:https://navaa.org/event/rsvp-for-save-voca-advocacy-day/
CATEGORIES:Members Only Events,Public Events
END:VEVENT
BEGIN:VEVENT
DTSTART;TZID=America/Chicago:20260114T130000
DTEND;TZID=America/Chicago:20260114T143000
DTSTAMP:20260423T163622
CREATED:20251226T212929Z
LAST-MODIFIED:20260112T161516Z
UID:5514-1768395600-1768401000@navaa.org
SUMMARY:Expert Q&A: Crisis Communications Planning and the Ethical Use of Social Media for Victim Service Providers
DESCRIPTION:Victim service providers often feel ill equipped to effectively manage crisis communications and unleash the power of social media\, while also maintaining the privacy and dignity of victims. Do you have questions about how to communicate effectively during a crisis and develop crisis plans? Do you want to learn how to leverage social media ethically to both advance your agency’s mission and support and advocate for victims? Then join us for this interactive Expert Q&A webinar! This webinar is ideal for professionals working in victim services\, including social workers\, counselors\, law enforcement officers\, and communication specialists\, as well as anyone involved in crisis management and public relations within victim service organizations. \nFor more information\, click HERE. \n*This is not a NAVAA-hosted event.  Please see the registration page for contact details*
URL:https://navaa.org/event/expert-qa-crisis-communications-planning-and-the-ethical-use-of-social-media-for-victim-service-providers/
CATEGORIES:Members Only Events,Public Events
END:VEVENT
BEGIN:VEVENT
DTSTART;TZID=America/Chicago:20260120T123000
DTEND;TZID=America/Chicago:20260120T140000
DTSTAMP:20260423T163622
CREATED:20251022T194131Z
LAST-MODIFIED:20251022T205755Z
UID:5024-1768912200-1768917600@navaa.org
SUMMARY:NAVAA Community of Practice
DESCRIPTION:NAVAA Community of Practice \nEvery 3rd Tuesday from 1:30-3:00 pm ET \nNAVAA’s Community of Practice is a monthly collaborative session where VOCA Assistance Administrators will share tools\, strategies\, and real-world experiences. Each meeting features peer-led presentations and guided discussion\, focusing on practical implementation and lessons learned. This space supports ongoing professional development and advances our ability to serve victims through shared expertise. \nTo join the meeting\, click HERE.
URL:https://navaa.org/event/navaa-community-of-practice-4/
CATEGORIES:Members Only Events
END:VEVENT
BEGIN:VEVENT
DTSTART;TZID=America/Chicago:20260121T140000
DTEND;TZID=America/Chicago:20260121T160000
DTSTAMP:20260423T163622
CREATED:20251204T203636Z
LAST-MODIFIED:20251204T203636Z
UID:5366-1769004000-1769011200@navaa.org
SUMMARY:AI and Justice Policy: Ethical Consideration for Researchers
DESCRIPTION:Justice Information Resource Network \nJanuary 21\, 2026 \nAs artificial intelligence rapidly transforms the research landscape\, applied researchers in the justice arena face new opportunities and challenges in how these tools are applied to study crime\, policy\, and public safety. This interactive webinar provides an overview of how AI can be responsibly integrated into SACs research\, offering an introduction to the ethical deployment of AI in justice policy research. Special attention will be given to maintaining transparency\, reliability\, and methodological rigor when AI tools are used. The session will also examine considerations regarding the use of AI for Institutional Review Board (IRB) submissions. \nContact JIRN for more information: AI and Justice Policy \n****This is not a NAVAA-hosted event.
URL:https://navaa.org/event/ai-and-justice-policy-ethical-consideration-for-researchers/
CATEGORIES:Public Events
END:VEVENT
BEGIN:VEVENT
DTSTART;TZID=America/Chicago:20260121T143000
DTEND;TZID=America/Chicago:20260121T160000
DTSTAMP:20260423T163622
CREATED:20260114T203816Z
LAST-MODIFIED:20260114T203816Z
UID:5624-1769005800-1769011200@navaa.org
SUMMARY:Join AIS Interactive Town Hall: Challenges and Opportunities for Serving Immigrant Survivors
DESCRIPTION:As policy shifts continue to intensify risks and barriers to service\, immigrant survivors of domestic violence\, sexual assault\, human trafficking\, and other crimes – and the advocates that support them – face increased complexity in evaluating available paths to safety and justice.\n \nBy working through real-world scenarios\, this interactive webinar will demonstrate the impact of policy changes from the past year on service provision to immigrant survivors. Presenters and participants will identify survivor-centered policies\, resources\, and best practices that advocates and organizations can leverage to continue providing expert services to immigrant survivors. \nFor additional information\, visit the LINK. \n*This is not a NAVAA-hosted event.  Please see the registration page for contact details.*
URL:https://navaa.org/event/join-ais-interactive-town-hall-challenges-and-opportunities-for-serving-immigrant-survivors/
CATEGORIES:Members Only Events
END:VEVENT
BEGIN:VEVENT
DTSTART;TZID=America/Chicago:20260122T080000
DTEND;TZID=America/Chicago:20260122T170000
DTSTAMP:20260423T163622
CREATED:20260113T153408Z
LAST-MODIFIED:20260113T153408Z
UID:5610-1769068800-1769101200@navaa.org
SUMMARY:2026 Financial Management Training Webinar - Registration Opens TODAY!
DESCRIPTION:OJP will offer a webinar titled: Indirect Cost scheduled to take place online on Thursday\, January 22 at 2pm-3:30pm EST. \nThis webinar is designed to provide an overview of indirect costs\, including how they are defined and calculated. It also provides guidance on preparing and submitting an indirect cost rate proposal for approval when the Department of Justice (DOJ) serves as the cognizant agency. \nPlease have your organization’s Unique Entity Identifier (UEI) and one of your active OJP Grant Numbers available during the registration process. \nOn Tuesday\, January 13\, 2026\, at 2pm EST\, registration for this webinar will open. Please visit the seminar website and click on the ‘Registration’ tab in the right-hand navigation menu to sign up. Live OJP Financial Management Training \nOnce registration closes\, you will receive an email confirming your online enrollment and request to attend the webinar.  You will receive a second email the day before the event with the webinar link\, power point slides\, and the pass code to the webinar. \nIf you have any questions and/or comments\, please contact the registrar via email at DOJFinancialTraining@usdoj.gov
URL:https://navaa.org/event/2026-financial-management-training-webinar-registration-opens-today/
CATEGORIES:Members Only Events
END:VEVENT
BEGIN:VEVENT
DTSTART;TZID=America/Chicago:20260127T130000
DTEND;TZID=America/Chicago:20260127T143000
DTSTAMP:20260423T163622
CREATED:20260105T230415Z
LAST-MODIFIED:20260112T163759Z
UID:5534-1769518800-1769524200@navaa.org
SUMMARY:Victim Assistance Response to Mass Violence Webinar Series
DESCRIPTION:Please join us on Tuesday\, January 27\, 2026\, from 2‒3:30 p.m. ET\, for the third installment of the Office for Victims of Crime Training and Technical Assistance Center’s (OVC TTAC) Victim Assistance Response to Mass Violence Webinar Series: Trauma Notification\, which will highlight the importance of victim service providers responding to incidents of mass violence and terrorism. The session focuses on: \n\ndescribing the factors related to victim assistance providers delivering mass violence trauma notifications\,\nexplaining the dynamics of a trained trauma notification team\,\nidentifying the training needs for victim advocates providing trauma notifications\,\nintegrating trauma-informed processes to prepare for these notifications.\n\nRegistration will open soon. Sign up for the OVC TTAC email listserv to receive registration notices. \n*This is not a NAVAA-hosted events.  Please see the registration page for contact details.*
URL:https://navaa.org/event/victim-assistance-response-to-mass-violence-webinar-series/
CATEGORIES:Members Only Events,Public Events
END:VEVENT
BEGIN:VEVENT
DTSTART;TZID=America/Chicago:20260128T130000
DTEND;TZID=America/Chicago:20260128T140000
DTSTAMP:20260423T163622
CREATED:20260107T152142Z
LAST-MODIFIED:20260107T152142Z
UID:5553-1769605200-1769608800@navaa.org
SUMMARY:National MDT Survey and Listening Sessions Report Out and Request for Feedback
DESCRIPTION:Join us on Wednesday\, January 28\, 2026\, from 2:00–3:00 p.m. eastern time for the Elder Justice Initiative webinar “National MDT Survey and Listening Sessions Report Out and Request for Feedback.” \nThis webinar will discuss the findings from the 2025 National Multidisciplinary Team (MDT) Listening Sessions and the 2025 National Elder Abuse MDT Needs Assessment Survey. Key takeaways from both reports will be presented\, and the audience will be engaged to provide feedback on the findings and refine and prioritize planned educational offerings and materials. In addition to highlighting MDT needs\, there will be a discussion about promising practices and novel ideas that teams currently employ to meet their clients’ unique needs. \nFor more information or to register\, click HERE. \n*This is not a NAVAA-based event.  Please see the registration page for contact details*
URL:https://navaa.org/event/national-mdt-survey-and-listening-sessions-report-out-and-request-for-feedback/
CATEGORIES:Members Only Events,Public Events
END:VEVENT
END:VCALENDAR